Workbook

Sheet Ofic Autorizadas
A1: OFICINAS DEL SISTEMA FINANCIERO NACIONAL AUTORIZADAS
A3: MONEDA Y BANCA | B3: 1996 | C3: 1997 | D3: 1998 | E3: 1999 | F3: 2009
A4: BANCOS COMERCIALES | B4: =SUM(B5:B9) -> 778 | C4: =SUM(C5:C9) -> 934 | D4: =SUM(D5:D9) -> 1093 | E4: =SUM(E5:E9) -> 1113 | F4: =SUM(F5:F9) -> 7634
A5: Oficinas Principales | B5: 22 | C5: 22 | D5: 23 | E5: =+'1999'!E36 -> 22 | F5: =+'Instituciones Supervisadas'!E22 -> 15
A6: Sucursales | B6: 70 | C6: 73 | D6: 76 | E6: =+'1999'!F36 -> 74 | F6: =+'Instituciones Supervisadas'!F22 -> 38
A7: Agencias | B7: 416 | C7: 442 | D7: 514 | E7: =+'1999'!G36 -> 561 | F7: =+'Instituciones Supervisadas'!G22 -> 841
A8: Ventanillas de Servicio | B8: 187 | C8: 271 | D8: 314 | E8: =+'1999'!H36 -> 327 | F8: =+'Instituciones Supervisadas'!H22 -> 338
A9: Otras Oficinas | B9: 83 | C9: 126 | D9: 166 | E9: =+'1999'!I36 -> 129 | F9: =+'Instituciones Supervisadas'!I22 -> 6402
A10: BANCOS ESTATALES | B10: =SUM(B11:B15) -> 61 | C10: =SUM(C11:C15) -> 66 | D10: =SUM(D11:D15) -> 66 | E10: =SUM(E11:E15) -> 43 | F10: =SUM(F11:F15) -> 46
A11: Oficinas Principales | B11: 3 | C11: 3 | D11: 3 | E11: =+'1999'!E43 -> 3 | F11: =+'Instituciones Supervisadas'!E27 -> 3
A12: Sucursales | B12: 5 | C12: 5 | D12: 5 | E12: =+'1999'!F43 -> 4 | F12: =+'Instituciones Supervisadas'!F27 -> 3
A13: Agencias | B13: 25 | C13: 25 | D13: 25 | E13: =+'1999'!G43 -> 26 | F13: =+'Instituciones Supervisadas'!G27 -> 33
A14: Ventanillas de Servicio | B14: 20 | C14: 26 | D14: 26 | E14: =+'1999'!H43 -> 10 | F14: =+'Instituciones Supervisadas'!H27 -> 7
A15: Otras Oficinas | B15: 8 | C15: 7 | D15: 7 | E15: =+'1999'!I43 -> 0 | F15: =+'Instituciones Supervisadas'!I27 -> 0
A16: ASOC. DE AHORRO Y PRESTAMO | B16: =SUM(B17:B21) -> 85 | C16: =SUM(C17:C21) -> 94 | D16: =SUM(D17:D21) -> 170 | E16: =SUM(E17:E21) -> 167 | F16: =SUM(F17:F21) -> #REF!
A17: Oficinas Principales | B17: 4 | C17: 4 | D17: 4 | E17: =+'1999'!E51 -> 4 | F17: =+'Instituciones Supervisadas'!#REF! -> #REF!
A18: Sucursales | B18: 6 | C18: 6 | D18: 6 | E18: =+'1999'!F51 -> 9 | F18: =+'Instituciones Supervisadas'!#REF! -> #REF!
A19: Agencias | B19: 25 | C19: 26 | D19: 36 | E19: =+'1999'!G51 -> 38 | F19: =+'Instituciones Supervisadas'!#REF! -> #REF!
A20: Ventanillas de Servicio | B20: 47 | C20: 54 | D20: 92 | E20: =+'1999'!H51 -> 95 | F20: =+'Instituciones Supervisadas'!#REF! -> #REF!
A21: Otras Oficinas | B21: 3 | C21: 4 | D21: 32 | E21: =+'1999'!I51 -> 21 | F21: =+'Instituciones Supervisadas'!#REF! -> #REF!
A22: BANCA DE SEGUNDO PISO | B22: =SUM(B23:B27) -> 2 | C22: =SUM(C23:C27) -> 3 | D22: =SUM(D23:D27) -> 3 | E22: =SUM(E23:E27) -> 3 | F22: =SUM(F23:F27) -> #REF!
A23: Oficinas Principales | B23: 1 | C23: 2 | D23: 2 | E23: =+'1999'!E57 -> 2 | F23: =+'Instituciones Supervisadas'!#REF! -> #REF!
A24: Sucursales | B24: 0 | C24: 0 | D24: 0 | E24: =+'1999'!F57 -> 0 | F24: =+'Instituciones Supervisadas'!#REF! -> #REF!
A25: Agencias | B25: 1 | C25: 1 | D25: 1 | E25: =+'1999'!G57 -> 1 | F25: =+'Instituciones Supervisadas'!#REF! -> #REF!
A26: Ventanillas de Servicio | B26: 0 | C26: 0 | D26: 0 | E26: =+'1999'!H57 -> 0 | F26: =+'Instituciones Supervisadas'!#REF! -> #REF!
A27: Otras Oficinas | B27: 0 | C27: 0 | D27: 0 | E27: =+'1999'!I57 -> 0 | F27: =+'Instituciones Supervisadas'!#REF! -> #REF!
A28: COMPAÑIAS DE SEGUROS | B28: =SUM(B29:B33) -> 50 | C28: =SUM(C29:C33) -> 55 | D28: =SUM(D29:D33) -> 61 | E28: =SUM(E29:E33) -> 60 | F28: =SUM(F29:F33) -> 39
A29: Oficinas Principales | B29: 11 | C29: 11 | D29: 11 | E29: =+'1999'!E72 -> 11 | F29: =+'Instituciones Supervisadas'!E57 -> 13
A30: Sucursales | B30: 11 | C30: 12 | D30: 15 | E30: =+'1999'!F72 -> 24 | F30: =+'Instituciones Supervisadas'!F57 -> 9
A31: Agencias | B31: 18 | C31: 21 | D31: 24 | E31: =+'1999'!G72 -> 19 | F31: =+'Instituciones Supervisadas'!G57 -> 16
A32: Ventanillas de Servicio | B32: 9 | C32: 10 | D32: 10 | E32: =+'1999'!H72 -> 5 | F32: =+'Instituciones Supervisadas'!H57 -> 0
A33: Otras Oficinas | B33: 1 | C33: 1 | D33: 1 | E33: =+'1999'!I72 -> 1 | F33: =+'Instituciones Supervisadas'!I57 -> 1
A35: OFICINAS DEL SISTEMA FINANCIERO NACIONAL AUTORIZADAS
A37: MONEDA Y BANCA | B37: 1996 | C37: 1997 | D37: 1998 | E37: 1999 | F37: 2009 *
A38: FONDOS DE PENSIONES | B38: =SUM(B39:B43) -> 2 | C38: =SUM(C39:C43) -> 3 | D38: =SUM(D39:D43) -> 5 | E38: =SUM(E39:E43) -> 6 | F38: =SUM(F39:F43) -> 43
A39: Oficinas Principales | B39: 2 | C39: 2 | D39: 2 | E39: =+'1999'!E89 -> 2 | F39: =+'Instituciones Supervisadas'!E80 -> 5
A40: Sucursales | B40: 0 | C40: 1 | D40: 1 | E40: =+'1999'!F89 -> 3 | F40: =+'Instituciones Supervisadas'!F80 -> 1
A41: Agencias | B41: 0 | C41: 0 | D41: 0 | E41: =+'1999'!G89 -> 1 | F41: =+'Instituciones Supervisadas'!G80 -> 35
A42: Ventanillas de Servicio | B42: 0 | C42: 0 | D42: 0 | E42: =+'1999'!H89 -> 0 | F42: =+'Instituciones Supervisadas'!H80 -> 0
A43: Otras Oficinas | B43: 0 | C43: 0 | D43: 2 | E43: =+'1999'!I89 -> 0 | F43: =+'Instituciones Supervisadas'!I80 -> 2
...

Sheet CONSOLIDADO
A1: SISTEMA FINANCIERO NACIONAL
A2: NUMERO DE OFICINAS POR DEPARTAMENTO
A3: ='Instituciones Supervisadas'!A3 -> Al 31 de Marzo de 2020
B5: Número de | C5: Número | D5: Número | E5: Ventanillas | F5: Otras | G5: Número | H5: Número de
B6: Oficinas | C6: de | D6: de | E6: de | F6: Oficinas | G6: Total de | H6: Funcionarios
A7: Departamentos | B7: Principales | C7: Sucursales 1/ | D7: Agencias | E7: Servicio | F7: 2/ | G7: Oficinas | H7: y Empleados
A9: Francisco Morazán | B9: =+INDIVIDUAL!B9+INDIVIDUAL!B40+INDIVIDUAL!B71+INDIVIDUAL!B102+INDIVIDUAL!B133+INDIVIDUAL!B288+INDIVIDUAL!B164+INDIVIDUAL!B195+INDIVIDUAL!B226+INDIVIDUAL!B257+INDIVIDUAL!B319+INDIVIDUAL!B350+INDIVIDUAL!B381+INDIVIDUAL!B412+INDIVIDUAL!B444+INDIVIDUAL!B476 -> 56 | C9: =+INDIVIDUAL!C9+INDIVIDUAL!C40+INDIVIDUAL!C71+INDIVIDUAL!C102+INDIVIDUAL!C133+INDIVIDUAL!C288+INDIVIDUAL!C164+INDIVIDUAL!C195+INDIVIDUAL!C226+INDIVIDUAL!C257+INDIVIDUAL!C319+INDIVIDUAL!C350+INDIVIDUAL!C381+INDIVIDUAL!C412+INDIVIDUAL!C444+INDIVIDUAL!C476 -> #REF! | D9: =+INDIVIDUAL!D9+INDIVIDUAL!D40+INDIVIDUAL!D71+INDIVIDUAL!D102+INDIVIDUAL!D133+INDIVIDUAL!D288+INDIVIDUAL!D164+INDIVIDUAL!D195+INDIVIDUAL!D226+INDIVIDUAL!D257+INDIVIDUAL!D319+INDIVIDUAL!D350+INDIVIDUAL!D381+INDIVIDUAL!D412+INDIVIDUAL!D444+INDIVIDUAL!D476 -> #REF! | E9: =+INDIVIDUAL!E9+INDIVIDUAL!E40+INDIVIDUAL!E71+INDIVIDUAL!E102+INDIVIDUAL!E133+INDIVIDUAL!E288+INDIVIDUAL!E164+INDIVIDUAL!E195+INDIVIDUAL!E226+INDIVIDUAL!E257+INDIVIDUAL!E319+INDIVIDUAL!E350+INDIVIDUAL!E381+INDIVIDUAL!E412+INDIVIDUAL!E444+INDIVIDUAL!E476 -> #REF! | F9: =+INDIVIDUAL!F9+INDIVIDUAL!F40+INDIVIDUAL!F71+INDIVIDUAL!F102+INDIVIDUAL!F133+INDIVIDUAL!F288+INDIVIDUAL!F164+INDIVIDUAL!F195+INDIVIDUAL!F226+INDIVIDUAL!F257+INDIVIDUAL!F319+INDIVIDUAL!F350+INDIVIDUAL!F381+INDIVIDUAL!F412+INDIVIDUAL!F444+INDIVIDUAL!F476 -> #REF! | G9: =SUM(B9:F9) -> #REF! | H9: =+INDIVIDUAL!H9+INDIVIDUAL!H40+INDIVIDUAL!H71+INDIVIDUAL!H102+INDIVIDUAL!H133+INDIVIDUAL!H288+INDIVIDUAL!H164+INDIVIDUAL!H195+INDIVIDUAL!H226+INDIVIDUAL!H257+INDIVIDUAL!H319+INDIVIDUAL!H350+INDIVIDUAL!H381+INDIVIDUAL!H412+INDIVIDUAL!H444+INDIVIDUAL!H476 -> #REF!
A10: Cortés | B10: =+INDIVIDUAL!B10+INDIVIDUAL!B41+INDIVIDUAL!B72+INDIVIDUAL!B103+INDIVIDUAL!B134+INDIVIDUAL!B289+INDIVIDUAL!B165+INDIVIDUAL!B196+INDIVIDUAL!B227+INDIVIDUAL!B258+INDIVIDUAL!B320+INDIVIDUAL!B351+INDIVIDUAL!B382+INDIVIDUAL!B413+INDIVIDUAL!B445+INDIVIDUAL!B477 -> 17 | C10: =+INDIVIDUAL!C10+INDIVIDUAL!C41+INDIVIDUAL!C72+INDIVIDUAL!C103+INDIVIDUAL!C134+INDIVIDUAL!C289+INDIVIDUAL!C165+INDIVIDUAL!C196+INDIVIDUAL!C227+INDIVIDUAL!C258+INDIVIDUAL!C320+INDIVIDUAL!C351+INDIVIDUAL!C382+INDIVIDUAL!C413+INDIVIDUAL!C445+INDIVIDUAL!C477 -> #REF! | D10: =+INDIVIDUAL!D10+INDIVIDUAL!D41+INDIVIDUAL!D72+INDIVIDUAL!D103+INDIVIDUAL!D134+INDIVIDUAL!D289+INDIVIDUAL!D165+INDIVIDUAL!D196+INDIVIDUAL!D227+INDIVIDUAL!D258+INDIVIDUAL!D320+INDIVIDUAL!D351+INDIVIDUAL!D382+INDIVIDUAL!D413+INDIVIDUAL!D445+INDIVIDUAL!D477 -> #REF! | E10: =+INDIVIDUAL!E10+INDIVIDUAL!E41+INDIVIDUAL!E72+INDIVIDUAL!E103+INDIVIDUAL!E134+INDIVIDUAL!E289+INDIVIDUAL!E165+INDIVIDUAL!E196+INDIVIDUAL!E227+INDIVIDUAL!E258+INDIVIDUAL!E320+INDIVIDUAL!E351+INDIVIDUAL!E382+INDIVIDUAL!E413+INDIVIDUAL!E445+INDIVIDUAL!E477 -> #REF! | F10: =+INDIVIDUAL!F10+INDIVIDUAL!F41+INDIVIDUAL!F72+INDIVIDUAL!F103+INDIVIDUAL!F134+INDIVIDUAL!F289+INDIVIDUAL!F165+INDIVIDUAL!F196+INDIVIDUAL!F227+INDIVIDUAL!F258+INDIVIDUAL!F320+INDIVIDUAL!F351+INDIVIDUAL!F382+INDIVIDUAL!F413+INDIVIDUAL!F445+INDIVIDUAL!F477 -> #REF! | G10: =SUM(B10:F10) -> #REF! | H10: =+INDIVIDUAL!H10+INDIVIDUAL!H41+INDIVIDUAL!H72+INDIVIDUAL!H103+INDIVIDUAL!H134+INDIVIDUAL!H289+INDIVIDUAL!H165+INDIVIDUAL!H196+INDIVIDUAL!H227+INDIVIDUAL!H258+INDIVIDUAL!H320+INDIVIDUAL!H351+INDIVIDUAL!H382+INDIVIDUAL!H413+INDIVIDUAL!H445+INDIVIDUAL!H477 -> #REF!
A11: Atlántida | B11: =+INDIVIDUAL!B11+INDIVIDUAL!B42+INDIVIDUAL!B73+INDIVIDUAL!B104+INDIVIDUAL!B135+INDIVIDUAL!B290+INDIVIDUAL!B166+INDIVIDUAL!B197+INDIVIDUAL!B228+INDIVIDUAL!B259+INDIVIDUAL!B321+INDIVIDUAL!B352+INDIVIDUAL!B383+INDIVIDUAL!B414+INDIVIDUAL!B446+INDIVIDUAL!B478 -> 2 | C11: =+INDIVIDUAL!C11+INDIVIDUAL!C42+INDIVIDUAL!C73+INDIVIDUAL!C104+INDIVIDUAL!C135+INDIVIDUAL!C290+INDIVIDUAL!C166+INDIVIDUAL!C197+INDIVIDUAL!C228+INDIVIDUAL!C259+INDIVIDUAL!C321+INDIVIDUAL!C352+INDIVIDUAL!C383+INDIVIDUAL!C414+INDIVIDUAL!C446+INDIVIDUAL!C478 -> #REF! | D11: =+INDIVIDUAL!D11+INDIVIDUAL!D42+INDIVIDUAL!D73+INDIVIDUAL!D104+INDIVIDUAL!D135+INDIVIDUAL!D290+INDIVIDUAL!D166+INDIVIDUAL!D197+INDIVIDUAL!D228+INDIVIDUAL!D259+INDIVIDUAL!D321+INDIVIDUAL!D352+INDIVIDUAL!D383+INDIVIDUAL!D414+INDIVIDUAL!D446+INDIVIDUAL!D478 -> #REF! | E11: =+INDIVIDUAL!E11+INDIVIDUAL!E42+INDIVIDUAL!E73+INDIVIDUAL!E104+INDIVIDUAL!E135+INDIVIDUAL!E290+INDIVIDUAL!E166+INDIVIDUAL!E197+INDIVIDUAL!E228+INDIVIDUAL!E259+INDIVIDUAL!E321+INDIVIDUAL!E352+INDIVIDUAL!E383+INDIVIDUAL!E414+INDIVIDUAL!E446+INDIVIDUAL!E478 -> #REF! | F11: =+INDIVIDUAL!F11+INDIVIDUAL!F42+INDIVIDUAL!F73+INDIVIDUAL!F104+INDIVIDUAL!F135+INDIVIDUAL!F290+INDIVIDUAL!F166+INDIVIDUAL!F197+INDIVIDUAL!F228+INDIVIDUAL!F259+INDIVIDUAL!F321+INDIVIDUAL!F352+INDIVIDUAL!F383+INDIVIDUAL!F414+INDIVIDUAL!F446+INDIVIDUAL!F478 -> #REF! | G11: =SUM(B11:F11) -> #REF! | H11: =+INDIVIDUAL!H11+INDIVIDUAL!H42+INDIVIDUAL!H73+INDIVIDUAL!H104+INDIVIDUAL!H135+INDIVIDUAL!H290+INDIVIDUAL!H166+INDIVIDUAL!H197+INDIVIDUAL!H228+INDIVIDUAL!H259+INDIVIDUAL!H321+INDIVIDUAL!H352+INDIVIDUAL!H383+INDIVIDUAL!H414+INDIVIDUAL!H446+INDIVIDUAL!H478 -> #REF!
A12: Choluteca | B12: =+INDIVIDUAL!B12+INDIVIDUAL!B43+INDIVIDUAL!B74+INDIVIDUAL!B105+INDIVIDUAL!B136+INDIVIDUAL!B291+INDIVIDUAL!B167+INDIVIDUAL!B198+INDIVIDUAL!B229+INDIVIDUAL!B260+INDIVIDUAL!B322+INDIVIDUAL!B353+INDIVIDUAL!B384+INDIVIDUAL!B415+INDIVIDUAL!B447+INDIVIDUAL!B479 -> 0 | C12: =+INDIVIDUAL!C12+INDIVIDUAL!C43+INDIVIDUAL!C74+INDIVIDUAL!C105+INDIVIDUAL!C136+INDIVIDUAL!C291+INDIVIDUAL!C167+INDIVIDUAL!C198+INDIVIDUAL!C229+INDIVIDUAL!C260+INDIVIDUAL!C322+INDIVIDUAL!C353+INDIVIDUAL!C384+INDIVIDUAL!C415+INDIVIDUAL!C447+INDIVIDUAL!C479 -> #REF! | D12: =+INDIVIDUAL!D12+INDIVIDUAL!D43+INDIVIDUAL!D74+INDIVIDUAL!D105+INDIVIDUAL!D136+INDIVIDUAL!D291+INDIVIDUAL!D167+INDIVIDUAL!D198+INDIVIDUAL!D229+INDIVIDUAL!D260+INDIVIDUAL!D322+INDIVIDUAL!D353+INDIVIDUAL!D384+INDIVIDUAL!D415+INDIVIDUAL!D447+INDIVIDUAL!D479 -> #REF! | E12: =+INDIVIDUAL!E12+INDIVIDUAL!E43+INDIVIDUAL!E74+INDIVIDUAL!E105+INDIVIDUAL!E136+INDIVIDUAL!E291+INDIVIDUAL!E167+INDIVIDUAL!E198+INDIVIDUAL!E229+INDIVIDUAL!E260+INDIVIDUAL!E322+INDIVIDUAL!E353+INDIVIDUAL!E384+INDIVIDUAL!E415+INDIVIDUAL!E447+INDIVIDUAL!E479 -> #REF! | F12: =+INDIVIDUAL!F12+INDIVIDUAL!F43+INDIVIDUAL!F74+INDIVIDUAL!F105+INDIVIDUAL!F136+INDIVIDUAL!F291+INDIVIDUAL!F167+INDIVIDUAL!F198+INDIVIDUAL!F229+INDIVIDUAL!F260+INDIVIDUAL!F322+INDIVIDUAL!F353+INDIVIDUAL!F384+INDIVIDUAL!F415+INDIVIDUAL!F447+INDIVIDUAL!F479 -> #REF! | G12: =SUM(B12:F12) -> #REF! | H12: =+INDIVIDUAL!H12+INDIVIDUAL!H43+INDIVIDUAL!H74+INDIVIDUAL!H105+INDIVIDUAL!H136+INDIVIDUAL!H291+INDIVIDUAL!H167+INDIVIDUAL!H198+INDIVIDUAL!H229+INDIVIDUAL!H260+INDIVIDUAL!H322+INDIVIDUAL!H353+INDIVIDUAL!H384+INDIVIDUAL!H415+INDIVIDUAL!H447+INDIVIDUAL!H479 -> #REF!
A13: Copán | B13: =+INDIVIDUAL!B13+INDIVIDUAL!B44+INDIVIDUAL!B75+INDIVIDUAL!B106+INDIVIDUAL!B137+INDIVIDUAL!B292+INDIVIDUAL!B168+INDIVIDUAL!B199+INDIVIDUAL!B230+INDIVIDUAL!B261+INDIVIDUAL!B323+INDIVIDUAL!B354+INDIVIDUAL!B385+INDIVIDUAL!B416+INDIVIDUAL!B448+INDIVIDUAL!B480 -> 2 | C13: =+INDIVIDUAL!C13+INDIVIDUAL!C44+INDIVIDUAL!C75+INDIVIDUAL!C106+INDIVIDUAL!C137+INDIVIDUAL!C292+INDIVIDUAL!C168+INDIVIDUAL!C199+INDIVIDUAL!C230+INDIVIDUAL!C261+INDIVIDUAL!C323+INDIVIDUAL!C354+INDIVIDUAL!C385+INDIVIDUAL!C416+INDIVIDUAL!C448+INDIVIDUAL!C480 -> #REF! | D13: =+INDIVIDUAL!D13+INDIVIDUAL!D44+INDIVIDUAL!D75+INDIVIDUAL!D106+INDIVIDUAL!D137+INDIVIDUAL!D292+INDIVIDUAL!D168+INDIVIDUAL!D199+INDIVIDUAL!D230+INDIVIDUAL!D261+INDIVIDUAL!D323+INDIVIDUAL!D354+INDIVIDUAL!D385+INDIVIDUAL!D416+INDIVIDUAL!D448+INDIVIDUAL!D480 -> #REF! | E13: =+INDIVIDUAL!E13+INDIVIDUAL!E44+INDIVIDUAL!E75+INDIVIDUAL!E106+INDIVIDUAL!E137+INDIVIDUAL!E292+INDIVIDUAL!E168+INDIVIDUAL!E199+INDIVIDUAL!E230+INDIVIDUAL!E261+INDIVIDUAL!E323+INDIVIDUAL!E354+INDIVIDUAL!E385+INDIVIDUAL!E416+INDIVIDUAL!E448+INDIVIDUAL!E480 -> #REF! | F13: =+INDIVIDUAL!F13+INDIVIDUAL!F44+INDIVIDUAL!F75+INDIVIDUAL!F106+INDIVIDUAL!F137+INDIVIDUAL!F292+INDIVIDUAL!F168+INDIVIDUAL!F199+INDIVIDUAL!F230+INDIVIDUAL!F261+INDIVIDUAL!F323+INDIVIDUAL!F354+INDIVIDUAL!F385+INDIVIDUAL!F416+INDIVIDUAL!F448+INDIVIDUAL!F480 -> #REF! | G13: =SUM(B13:F13) -> #REF! | H13: =+INDIVIDUAL!H13+INDIVIDUAL!H44+INDIVIDUAL!H75+INDIVIDUAL!H106+INDIVIDUAL!H137+INDIVIDUAL!H292+INDIVIDUAL!H168+INDIVIDUAL!H199+INDIVIDUAL!H230+INDIVIDUAL!H261+INDIVIDUAL!H323+INDIVIDUAL!H354+INDIVIDUAL!H385+INDIVIDUAL!H416+INDIVIDUAL!H448+INDIVIDUAL!H480 -> #REF!
A14: Olancho | B14: =+INDIVIDUAL!B14+INDIVIDUAL!B45+INDIVIDUAL!B76+INDIVIDUAL!B107+INDIVIDUAL!B138+INDIVIDUAL!B293+INDIVIDUAL!B169+INDIVIDUAL!B200+INDIVIDUAL!B231+INDIVIDUAL!B262+INDIVIDUAL!B324+INDIVIDUAL!B355+INDIVIDUAL!B386+INDIVIDUAL!B417+INDIVIDUAL!B449+INDIVIDUAL!B481 -> 1 | C14: =+INDIVIDUAL!C14+INDIVIDUAL!C45+INDIVIDUAL!C76+INDIVIDUAL!C107+INDIVIDUAL!C138+INDIVIDUAL!C293+INDIVIDUAL!C169+INDIVIDUAL!C200+INDIVIDUAL!C231+INDIVIDUAL!C262+INDIVIDUAL!C324+INDIVIDUAL!C355+INDIVIDUAL!C386+INDIVIDUAL!C417+INDIVIDUAL!C449+INDIVIDUAL!C481 -> #REF! | D14: =+INDIVIDUAL!D14+INDIVIDUAL!D45+INDIVIDUAL!D76+INDIVIDUAL!D107+INDIVIDUAL!D138+INDIVIDUAL!D293+INDIVIDUAL!D169+INDIVIDUAL!D200+INDIVIDUAL!D231+INDIVIDUAL!D262+INDIVIDUAL!D324+INDIVIDUAL!D355+INDIVIDUAL!D386+INDIVIDUAL!D417+INDIVIDUAL!D449+INDIVIDUAL!D481 -> #REF! | E14: =+INDIVIDUAL!E14+INDIVIDUAL!E45+INDIVIDUAL!E76+INDIVIDUAL!E107+INDIVIDUAL!E138+INDIVIDUAL!E293+INDIVIDUAL!E169+INDIVIDUAL!E200+INDIVIDUAL!E231+INDIVIDUAL!E262+INDIVIDUAL!E324+INDIVIDUAL!E355+INDIVIDUAL!E386+INDIVIDUAL!E417+INDIVIDUAL!E449+INDIVIDUAL!E481 -> #REF! | F14: =+INDIVIDUAL!F14+INDIVIDUAL!F45+INDIVIDUAL!F76+INDIVIDUAL!F107+INDIVIDUAL!F138+INDIVIDUAL!F293+INDIVIDUAL!F169+INDIVIDUAL!F200+INDIVIDUAL!F231+INDIVIDUAL!F262+INDIVIDUAL!F324+INDIVIDUAL!F355+INDIVIDUAL!F386+INDIVIDUAL!F417+INDIVIDUAL!F449+INDIVIDUAL!F481 -> #REF! | G14: =SUM(B14:F14) -> #REF! | H14: =+INDIVIDUAL!H14+INDIVIDUAL!H45+INDIVIDUAL!H76+INDIVIDUAL!H107+INDIVIDUAL!H138+INDIVIDUAL!H293+INDIVIDUAL!H169+INDIVIDUAL!H200+INDIVIDUAL!H231+INDIVIDUAL!H262+INDIVIDUAL!H324+INDIVIDUAL!H355+INDIVIDUAL!H386+INDIVIDUAL!H417+INDIVIDUAL!H449+INDIVIDUAL!H481 -> #REF!
A15: El Paraíso | B15: =+INDIVIDUAL!B15+INDIVIDUAL!B46+INDIVIDUAL!B77+INDIVIDUAL!B108+INDIVIDUAL!B139+INDIVIDUAL!B294+INDIVIDUAL!B170+INDIVIDUAL!B201+INDIVIDUAL!B232+INDIVIDUAL!B263+INDIVIDUAL!B325+INDIVIDUAL!B356+INDIVIDUAL!B387+INDIVIDUAL!B418+INDIVIDUAL!B450+INDIVIDUAL!B482 -> 2 | C15: =+INDIVIDUAL!C15+INDIVIDUAL!C46+INDIVIDUAL!C77+INDIVIDUAL!C108+INDIVIDUAL!C139+INDIVIDUAL!C294+INDIVIDUAL!C170+INDIVIDUAL!C201+INDIVIDUAL!C232+INDIVIDUAL!C263+INDIVIDUAL!C325+INDIVIDUAL!C356+INDIVIDUAL!C387+INDIVIDUAL!C418+INDIVIDUAL!C450+INDIVIDUAL!C482 -> #REF! | D15: =+INDIVIDUAL!D15+INDIVIDUAL!D46+INDIVIDUAL!D77+INDIVIDUAL!D108+INDIVIDUAL!D139+INDIVIDUAL!D294+INDIVIDUAL!D170+INDIVIDUAL!D201+INDIVIDUAL!D232+INDIVIDUAL!D263+INDIVIDUAL!D325+INDIVIDUAL!D356+INDIVIDUAL!D387+INDIVIDUAL!D418+INDIVIDUAL!D450+INDIVIDUAL!D482 -> #REF! | E15: =+INDIVIDUAL!E15+INDIVIDUAL!E46+INDIVIDUAL!E77+INDIVIDUAL!E108+INDIVIDUAL!E139+INDIVIDUAL!E294+INDIVIDUAL!E170+INDIVIDUAL!E201+INDIVIDUAL!E232+INDIVIDUAL!E263+INDIVIDUAL!E325+INDIVIDUAL!E356+INDIVIDUAL!E387+INDIVIDUAL!E418+INDIVIDUAL!E450+INDIVIDUAL!E482 -> #REF! | F15: =+INDIVIDUAL!F15+INDIVIDUAL!F46+INDIVIDUAL!F77+INDIVIDUAL!F108+INDIVIDUAL!F139+INDIVIDUAL!F294+INDIVIDUAL!F170+INDIVIDUAL!F201+INDIVIDUAL!F232+INDIVIDUAL!F263+INDIVIDUAL!F325+INDIVIDUAL!F356+INDIVIDUAL!F387+INDIVIDUAL!F418+INDIVIDUAL!F450+INDIVIDUAL!F482 -> #REF! | G15: =SUM(B15:F15) -> #REF! | H15: =+INDIVIDUAL!H15+INDIVIDUAL!H46+INDIVIDUAL!H77+INDIVIDUAL!H108+INDIVIDUAL!H139+INDIVIDUAL!H294+INDIVIDUAL!H170+INDIVIDUAL!H201+INDIVIDUAL!H232+INDIVIDUAL!H263+INDIVIDUAL!H325+INDIVIDUAL!H356+INDIVIDUAL!H387+INDIVIDUAL!H418+INDIVIDUAL!H450+INDIVIDUAL!H482 -> #REF!
A16: Santa Bárbara | B16: =+INDIVIDUAL!B16+INDIVIDUAL!B47+INDIVIDUAL!B78+INDIVIDUAL!B109+INDIVIDUAL!B140+INDIVIDUAL!B295+INDIVIDUAL!B171+INDIVIDUAL!B202+INDIVIDUAL!B233+INDIVIDUAL!B264+INDIVIDUAL!B326+INDIVIDUAL!B357+INDIVIDUAL!B388+INDIVIDUAL!B419+INDIVIDUAL!B451+INDIVIDUAL!B483 -> 0 | C16: =+INDIVIDUAL!C16+INDIVIDUAL!C47+INDIVIDUAL!C78+INDIVIDUAL!C109+INDIVIDUAL!C140+INDIVIDUAL!C295+INDIVIDUAL!C171+INDIVIDUAL!C202+INDIVIDUAL!C233+INDIVIDUAL!C264+INDIVIDUAL!C326+INDIVIDUAL!C357+INDIVIDUAL!C388+INDIVIDUAL!C419+INDIVIDUAL!C451+INDIVIDUAL!C483 -> #REF! | D16: =+INDIVIDUAL!D16+INDIVIDUAL!D47+INDIVIDUAL!D78+INDIVIDUAL!D109+INDIVIDUAL!D140+INDIVIDUAL!D295+INDIVIDUAL!D171+INDIVIDUAL!D202+INDIVIDUAL!D233+INDIVIDUAL!D264+INDIVIDUAL!D326+INDIVIDUAL!D357+INDIVIDUAL!D388+INDIVIDUAL!D419+INDIVIDUAL!D451+INDIVIDUAL!D483 -> #REF! | E16: =+INDIVIDUAL!E16+INDIVIDUAL!E47+INDIVIDUAL!E78+INDIVIDUAL!E109+INDIVIDUAL!E140+INDIVIDUAL!E295+INDIVIDUAL!E171+INDIVIDUAL!E202+INDIVIDUAL!E233+INDIVIDUAL!E264+INDIVIDUAL!E326+INDIVIDUAL!E357+INDIVIDUAL!E388+INDIVIDUAL!E419+INDIVIDUAL!E451+INDIVIDUAL!E483 -> #REF! | F16: =+INDIVIDUAL!F16+INDIVIDUAL!F47+INDIVIDUAL!F78+INDIVIDUAL!F109+INDIVIDUAL!F140+INDIVIDUAL!F295+INDIVIDUAL!F171+INDIVIDUAL!F202+INDIVIDUAL!F233+INDIVIDUAL!F264+INDIVIDUAL!F326+INDIVIDUAL!F357+INDIVIDUAL!F388+INDIVIDUAL!F419+INDIVIDUAL!F451+INDIVIDUAL!F483 -> #REF! | G16: =SUM(B16:F16) -> #REF! | H16: =+INDIVIDUAL!H16+INDIVIDUAL!H47+INDIVIDUAL!H78+INDIVIDUAL!H109+INDIVIDUAL!H140+INDIVIDUAL!H295+INDIVIDUAL!H171+INDIVIDUAL!H202+INDIVIDUAL!H233+INDIVIDUAL!H264+INDIVIDUAL!H326+INDIVIDUAL!H357+INDIVIDUAL!H388+INDIVIDUAL!H419+INDIVIDUAL!H451+INDIVIDUAL!H483 -> #REF!
A17: Comayagüa | B17: =+INDIVIDUAL!B17+INDIVIDUAL!B48+INDIVIDUAL!B79+INDIVIDUAL!B110+INDIVIDUAL!B141+INDIVIDUAL!B296+INDIVIDUAL!B172+INDIVIDUAL!B203+INDIVIDUAL!B234+INDIVIDUAL!B265+INDIVIDUAL!B327+INDIVIDUAL!B358+INDIVIDUAL!B389+INDIVIDUAL!B420+INDIVIDUAL!B452+INDIVIDUAL!B484 -> 0 | C17: =+INDIVIDUAL!C17+INDIVIDUAL!C48+INDIVIDUAL!C79+INDIVIDUAL!C110+INDIVIDUAL!C141+INDIVIDUAL!C296+INDIVIDUAL!C172+INDIVIDUAL!C203+INDIVIDUAL!C234+INDIVIDUAL!C265+INDIVIDUAL!C327+INDIVIDUAL!C358+INDIVIDUAL!C389+INDIVIDUAL!C420+INDIVIDUAL!C452+INDIVIDUAL!C484 -> #REF! | D17: =+INDIVIDUAL!D17+INDIVIDUAL!D48+INDIVIDUAL!D79+INDIVIDUAL!D110+INDIVIDUAL!D141+INDIVIDUAL!D296+INDIVIDUAL!D172+INDIVIDUAL!D203+INDIVIDUAL!D234+INDIVIDUAL!D265+INDIVIDUAL!D327+INDIVIDUAL!D358+INDIVIDUAL!D389+INDIVIDUAL!D420+INDIVIDUAL!D452+INDIVIDUAL!D484 -> #REF! | E17: =+INDIVIDUAL!E17+INDIVIDUAL!E48+INDIVIDUAL!E79+INDIVIDUAL!E110+INDIVIDUAL!E141+INDIVIDUAL!E296+INDIVIDUAL!E172+INDIVIDUAL!E203+INDIVIDUAL!E234+INDIVIDUAL!E265+INDIVIDUAL!E327+INDIVIDUAL!E358+INDIVIDUAL!E389+INDIVIDUAL!E420+INDIVIDUAL!E452+INDIVIDUAL!E484 -> #REF! | F17: =+INDIVIDUAL!F17+INDIVIDUAL!F48+INDIVIDUAL!F79+INDIVIDUAL!F110+INDIVIDUAL!F141+INDIVIDUAL!F296+INDIVIDUAL!F172+INDIVIDUAL!F203+INDIVIDUAL!F234+INDIVIDUAL!F265+INDIVIDUAL!F327+INDIVIDUAL!F358+INDIVIDUAL!F389+INDIVIDUAL!F420+INDIVIDUAL!F452+INDIVIDUAL!F484 -> #REF! | G17: =SUM(B17:F17) -> #REF! | H17: =+INDIVIDUAL!H17+INDIVIDUAL!H48+INDIVIDUAL!H79+INDIVIDUAL!H110+INDIVIDUAL!H141+INDIVIDUAL!H296+INDIVIDUAL!H172+INDIVIDUAL!H203+INDIVIDUAL!H234+INDIVIDUAL!H265+INDIVIDUAL!H327+INDIVIDUAL!H358+INDIVIDUAL!H389+INDIVIDUAL!H420+INDIVIDUAL!H452+INDIVIDUAL!H484 -> #REF!
A18: Islas de la Bahía | B18: =+INDIVIDUAL!B18+INDIVIDUAL!B49+INDIVIDUAL!B80+INDIVIDUAL!B111+INDIVIDUAL!B142+INDIVIDUAL!B297+INDIVIDUAL!B173+INDIVIDUAL!B204+INDIVIDUAL!B235+INDIVIDUAL!B266+INDIVIDUAL!B328+INDIVIDUAL!B359+INDIVIDUAL!B390+INDIVIDUAL!B421+INDIVIDUAL!B453+INDIVIDUAL!B485 -> 1 | C18: =+INDIVIDUAL!C18+INDIVIDUAL!C49+INDIVIDUAL!C80+INDIVIDUAL!C111+INDIVIDUAL!C142+INDIVIDUAL!C297+INDIVIDUAL!C173+INDIVIDUAL!C204+INDIVIDUAL!C235+INDIVIDUAL!C266+INDIVIDUAL!C328+INDIVIDUAL!C359+INDIVIDUAL!C390+INDIVIDUAL!C421+INDIVIDUAL!C453+INDIVIDUAL!C485 -> #REF! | D18: =+INDIVIDUAL!D18+INDIVIDUAL!D49+INDIVIDUAL!D80+INDIVIDUAL!D111+INDIVIDUAL!D142+INDIVIDUAL!D297+INDIVIDUAL!D173+INDIVIDUAL!D204+INDIVIDUAL!D235+INDIVIDUAL!D266+INDIVIDUAL!D328+INDIVIDUAL!D359+INDIVIDUAL!D390+INDIVIDUAL!D421+INDIVIDUAL!D453+INDIVIDUAL!D485 -> #REF! | E18: =+INDIVIDUAL!E18+INDIVIDUAL!E49+INDIVIDUAL!E80+INDIVIDUAL!E111+INDIVIDUAL!E142+INDIVIDUAL!E297+INDIVIDUAL!E173+INDIVIDUAL!E204+INDIVIDUAL!E235+INDIVIDUAL!E266+INDIVIDUAL!E328+INDIVIDUAL!E359+INDIVIDUAL!E390+INDIVIDUAL!E421+INDIVIDUAL!E453+INDIVIDUAL!E485 -> #REF! | F18: =+INDIVIDUAL!F18+INDIVIDUAL!F49+INDIVIDUAL!F80+INDIVIDUAL!F111+INDIVIDUAL!F142+INDIVIDUAL!F297+INDIVIDUAL!F173+INDIVIDUAL!F204+INDIVIDUAL!F235+INDIVIDUAL!F266+INDIVIDUAL!F328+INDIVIDUAL!F359+INDIVIDUAL!F390+INDIVIDUAL!F421+INDIVIDUAL!F453+INDIVIDUAL!F485 -> #REF! | G18: =SUM(B18:F18) -> #REF! | H18: =+INDIVIDUAL!H18+INDIVIDUAL!H49+INDIVIDUAL!H80+INDIVIDUAL!H111+INDIVIDUAL!H142+INDIVIDUAL!H297+INDIVIDUAL!H173+INDIVIDUAL!H204+INDIVIDUAL!H235+INDIVIDUAL!H266+INDIVIDUAL!H328+INDIVIDUAL!H359+INDIVIDUAL!H390+INDIVIDUAL!H421+INDIVIDUAL!H453+INDIVIDUAL!H485 -> #REF!
A19: Ocotepeque | B19: =+INDIVIDUAL!B19+INDIVIDUAL!B50+INDIVIDUAL!B81+INDIVIDUAL!B112+INDIVIDUAL!B143+INDIVIDUAL!B298+INDIVIDUAL!B174+INDIVIDUAL!B205+INDIVIDUAL!B236+INDIVIDUAL!B267+INDIVIDUAL!B329+INDIVIDUAL!B360+INDIVIDUAL!B391+INDIVIDUAL!B422+INDIVIDUAL!B454+INDIVIDUAL!B486 -> 1 | C19: =+INDIVIDUAL!C19+INDIVIDUAL!C50+INDIVIDUAL!C81+INDIVIDUAL!C112+INDIVIDUAL!C143+INDIVIDUAL!C298+INDIVIDUAL!C174+INDIVIDUAL!C205+INDIVIDUAL!C236+INDIVIDUAL!C267+INDIVIDUAL!C329+INDIVIDUAL!C360+INDIVIDUAL!C391+INDIVIDUAL!C422+INDIVIDUAL!C454+INDIVIDUAL!C486 -> #REF! | D19: =+INDIVIDUAL!D19+INDIVIDUAL!D50+INDIVIDUAL!D81+INDIVIDUAL!D112+INDIVIDUAL!D143+INDIVIDUAL!D298+INDIVIDUAL!D174+INDIVIDUAL!D205+INDIVIDUAL!D236+INDIVIDUAL!D267+INDIVIDUAL!D329+INDIVIDUAL!D360+INDIVIDUAL!D391+INDIVIDUAL!D422+INDIVIDUAL!D454+INDIVIDUAL!D486 -> #REF! | E19: =+INDIVIDUAL!E19+INDIVIDUAL!E50+INDIVIDUAL!E81+INDIVIDUAL!E112+INDIVIDUAL!E143+INDIVIDUAL!E298+INDIVIDUAL!E174+INDIVIDUAL!E205+INDIVIDUAL!E236+INDIVIDUAL!E267+INDIVIDUAL!E329+INDIVIDUAL!E360+INDIVIDUAL!E391+INDIVIDUAL!E422+INDIVIDUAL!E454+INDIVIDUAL!E486 -> #REF! | F19: =+INDIVIDUAL!F19+INDIVIDUAL!F50+INDIVIDUAL!F81+INDIVIDUAL!F112+INDIVIDUAL!F143+INDIVIDUAL!F298+INDIVIDUAL!F174+INDIVIDUAL!F205+INDIVIDUAL!F236+INDIVIDUAL!F267+INDIVIDUAL!F329+INDIVIDUAL!F360+INDIVIDUAL!F391+INDIVIDUAL!F422+INDIVIDUAL!F454+INDIVIDUAL!F486 -> #REF! | G19: =SUM(B19:F19) -> #REF! | H19: =+INDIVIDUAL!H19+INDIVIDUAL!H50+INDIVIDUAL!H81+INDIVIDUAL!H112+INDIVIDUAL!H143+INDIVIDUAL!H298+INDIVIDUAL!H174+INDIVIDUAL!H205+INDIVIDUAL!H236+INDIVIDUAL!H267+INDIVIDUAL!H329+INDIVIDUAL!H360+INDIVIDUAL!H391+INDIVIDUAL!H422+INDIVIDUAL!H454+INDIVIDUAL!H486 -> #REF!
A20: Lempira | B20: =+INDIVIDUAL!B20+INDIVIDUAL!B51+INDIVIDUAL!B82+INDIVIDUAL!B113+INDIVIDUAL!B144+INDIVIDUAL!B299+INDIVIDUAL!B175+INDIVIDUAL!B206+INDIVIDUAL!B237+INDIVIDUAL!B268+INDIVIDUAL!B330+INDIVIDUAL!B361+INDIVIDUAL!B392+INDIVIDUAL!B423+INDIVIDUAL!B455+INDIVIDUAL!B487 -> 0 | C20: =+INDIVIDUAL!C20+INDIVIDUAL!C51+INDIVIDUAL!C82+INDIVIDUAL!C113+INDIVIDUAL!C144+INDIVIDUAL!C299+INDIVIDUAL!C175+INDIVIDUAL!C206+INDIVIDUAL!C237+INDIVIDUAL!C268+INDIVIDUAL!C330+INDIVIDUAL!C361+INDIVIDUAL!C392+INDIVIDUAL!C423+INDIVIDUAL!C455+INDIVIDUAL!C487 -> #REF! | D20: =+INDIVIDUAL!D20+INDIVIDUAL!D51+INDIVIDUAL!D82+INDIVIDUAL!D113+INDIVIDUAL!D144+INDIVIDUAL!D299+INDIVIDUAL!D175+INDIVIDUAL!D206+INDIVIDUAL!D237+INDIVIDUAL!D268+INDIVIDUAL!D330+INDIVIDUAL!D361+INDIVIDUAL!D392+INDIVIDUAL!D423+INDIVIDUAL!D455+INDIVIDUAL!D487 -> #REF! | E20: =+INDIVIDUAL!E20+INDIVIDUAL!E51+INDIVIDUAL!E82+INDIVIDUAL!E113+INDIVIDUAL!E144+INDIVIDUAL!E299+INDIVIDUAL!E175+INDIVIDUAL!E206+INDIVIDUAL!E237+INDIVIDUAL!E268+INDIVIDUAL!E330+INDIVIDUAL!E361+INDIVIDUAL!E392+INDIVIDUAL!E423+INDIVIDUAL!E455+INDIVIDUAL!E487 -> #REF! | F20: =+INDIVIDUAL!F20+INDIVIDUAL!F51+INDIVIDUAL!F82+INDIVIDUAL!F113+INDIVIDUAL!F144+INDIVIDUAL!F299+INDIVIDUAL!F175+INDIVIDUAL!F206+INDIVIDUAL!F237+INDIVIDUAL!F268+INDIVIDUAL!F330+INDIVIDUAL!F361+INDIVIDUAL!F392+INDIVIDUAL!F423+INDIVIDUAL!F455+INDIVIDUAL!F487 -> #REF! | G20: =SUM(B20:F20) -> #REF! | H20: =+INDIVIDUAL!H20+INDIVIDUAL!H51+INDIVIDUAL!H82+INDIVIDUAL!H113+INDIVIDUAL!H144+INDIVIDUAL!H299+INDIVIDUAL!H175+INDIVIDUAL!H206+INDIVIDUAL!H237+INDIVIDUAL!H268+INDIVIDUAL!H330+INDIVIDUAL!H361+INDIVIDUAL!H392+INDIVIDUAL!H423+INDIVIDUAL!H455+INDIVIDUAL!H487 -> #REF!
... A25: La Paz | B25: =+INDIVIDUAL!B25+INDIVIDUAL!B56+INDIVIDUAL!B87+INDIVIDUAL!B118+INDIVIDUAL!B149+INDIVIDUAL!B304+INDIVIDUAL!B180+INDIVIDUAL!B211+INDIVIDUAL!B242+INDIVIDUAL!B273+INDIVIDUAL!B335+INDIVIDUAL!B366+INDIVIDUAL!B397+INDIVIDUAL!B428+INDIVIDUAL!B460+INDIVIDUAL!B492 -> 0 | C25: =+INDIVIDUAL!C25+INDIVIDUAL!C56+INDIVIDUAL!C87+INDIVIDUAL!C118+INDIVIDUAL!C149+INDIVIDUAL!C304+INDIVIDUAL!C180+INDIVIDUAL!C211+INDIVIDUAL!C242+INDIVIDUAL!C273+INDIVIDUAL!C335+INDIVIDUAL!C366+INDIVIDUAL!C397+INDIVIDUAL!C428+INDIVIDUAL!C460+INDIVIDUAL!C492 -> #REF! | D25: =+INDIVIDUAL!D25+INDIVIDUAL!D56+INDIVIDUAL!D87+INDIVIDUAL!D118+INDIVIDUAL!D149+INDIVIDUAL!D304+INDIVIDUAL!D180+INDIVIDUAL!D211+INDIVIDUAL!D242+INDIVIDUAL!D273+INDIVIDUAL!D335+INDIVIDUAL!D366+INDIVIDUAL!D397+INDIVIDUAL!D428+INDIVIDUAL!D460+INDIVIDUAL!D492 -> #REF! | E25: =+INDIVIDUAL!E25+INDIVIDUAL!E56+INDIVIDUAL!E87+INDIVIDUAL!E118+INDIVIDUAL!E149+INDIVIDUAL!E304+INDIVIDUAL!E180+INDIVIDUAL!E211+INDIVIDUAL!E242+INDIVIDUAL!E273+INDIVIDUAL!E335+INDIVIDUAL!E366+INDIVIDUAL!E397+INDIVIDUAL!E428+INDIVIDUAL!E460+INDIVIDUAL!E492 -> #REF! | F25: =+INDIVIDUAL!F25+INDIVIDUAL!F56+INDIVIDUAL!F87+INDIVIDUAL!F118+INDIVIDUAL!F149+INDIVIDUAL!F304+INDIVIDUAL!F180+INDIVIDUAL!F211+INDIVIDUAL!F242+INDIVIDUAL!F273+INDIVIDUAL!F335+INDIVIDUAL!F366+INDIVIDUAL!F397+INDIVIDUAL!F428+INDIVIDUAL!F460+INDIVIDUAL!F492 -> #REF! | G25: =SUM(B25:F25) -> #REF! | H25: =+INDIVIDUAL!H25+INDIVIDUAL!H56+INDIVIDUAL!H87+INDIVIDUAL!H118+INDIVIDUAL!H149+INDIVIDUAL!H304+INDIVIDUAL!H180+INDIVIDUAL!H211+INDIVIDUAL!H242+INDIVIDUAL!H273+INDIVIDUAL!H335+INDIVIDUAL!H366+INDIVIDUAL!H397+INDIVIDUAL!H428+INDIVIDUAL!H460+INDIVIDUAL!H492 -> #REF!
A26: Intibuca | B26: =+INDIVIDUAL!B26+INDIVIDUAL!B57+INDIVIDUAL!B88+INDIVIDUAL!B119+INDIVIDUAL!B150+INDIVIDUAL!B305+INDIVIDUAL!B181+INDIVIDUAL!B212+INDIVIDUAL!B243+INDIVIDUAL!B274+INDIVIDUAL!B336+INDIVIDUAL!B367+INDIVIDUAL!B398+INDIVIDUAL!B429+INDIVIDUAL!B461+INDIVIDUAL!B493 -> 0 | C26: =+INDIVIDUAL!C26+INDIVIDUAL!C57+INDIVIDUAL!C88+INDIVIDUAL!C119+INDIVIDUAL!C150+INDIVIDUAL!C305+INDIVIDUAL!C181+INDIVIDUAL!C212+INDIVIDUAL!C243+INDIVIDUAL!C274+INDIVIDUAL!C336+INDIVIDUAL!C367+INDIVIDUAL!C398+INDIVIDUAL!C429+INDIVIDUAL!C461+INDIVIDUAL!C493 -> #REF! | D26: =+INDIVIDUAL!D26+INDIVIDUAL!D57+INDIVIDUAL!D88+INDIVIDUAL!D119+INDIVIDUAL!D150+INDIVIDUAL!D305+INDIVIDUAL!D181+INDIVIDUAL!D212+INDIVIDUAL!D243+INDIVIDUAL!D274+INDIVIDUAL!D336+INDIVIDUAL!D367+INDIVIDUAL!D398+INDIVIDUAL!D429+INDIVIDUAL!D461+INDIVIDUAL!D493 -> #REF! | E26: =+INDIVIDUAL!E26+INDIVIDUAL!E57+INDIVIDUAL!E88+INDIVIDUAL!E119+INDIVIDUAL!E150+INDIVIDUAL!E305+INDIVIDUAL!E181+INDIVIDUAL!E212+INDIVIDUAL!E243+INDIVIDUAL!E274+INDIVIDUAL!E336+INDIVIDUAL!E367+INDIVIDUAL!E398+INDIVIDUAL!E429+INDIVIDUAL!E461+INDIVIDUAL!E493 -> #REF! | F26: =+INDIVIDUAL!F26+INDIVIDUAL!F57+INDIVIDUAL!F88+INDIVIDUAL!F119+INDIVIDUAL!F150+INDIVIDUAL!F305+INDIVIDUAL!F181+INDIVIDUAL!F212+INDIVIDUAL!F243+INDIVIDUAL!F274+INDIVIDUAL!F336+INDIVIDUAL!F367+INDIVIDUAL!F398+INDIVIDUAL!F429+INDIVIDUAL!F461+INDIVIDUAL!F493 -> #REF! | G26: =SUM(B26:F26) -> #REF! | H26: =+INDIVIDUAL!H26+INDIVIDUAL!H57+INDIVIDUAL!H88+INDIVIDUAL!H119+INDIVIDUAL!H149+INDIVIDUAL!H305+INDIVIDUAL!H181+INDIVIDUAL!H212+INDIVIDUAL!H243+INDIVIDUAL!H274+INDIVIDUAL!H336+INDIVIDUAL!H367+INDIVIDUAL!H398+INDIVIDUAL!H429+INDIVIDUAL!H461+INDIVIDUAL!H493 -> #REF!
A28: TOTALES | B28: =SUM(B9:B26) -> 83 | C28: =SUM(C9:C26) -> #REF! | D28: =SUM(D9:D26) -> #REF! | E28: =SUM(E9:E26) -> #REF! | F28: =SUM(F9:F26) -> #REF! | G28: =SUM(B28:F28) -> #REF! | H28: =SUM(H9:H26) -> #REF!
A29: 1/ Considerar como "Sucursal" a la oficina que lleve, por separado de la oficina principal, los registros contables y/o centralice las operaciones de una determinada región del país.
A30: 2/ En "Otras Oficinas" puede incluir, según corresponda a su Institución: Autobancos, cajeros automáticos, corredurias, puestos de bolsa, bodegas habilitadas y otras oficinas de atención al
A31: público.

Sheet Instituciones Supervisadas
A2: INSTITUCIONES SUPERVISADAS POR LA COMISIÓN NACIONAL DE BANCOS Y SEGUROS
A3: Al 31 de Marzo de 2020
A5: No. | B5: Institución | C5: Nombre de Referencia | D5: Fecha Inicio de Operaciones | E5: Oficina Principal (Ciudad) | F5: Sucursales | G5: Agencias | H5: Ventanillas de Servicio | I5: Otras Oficinas1/ | J5: No. Total de Oficinas | K5: No. de Funcionarios y Empleados
B6: Bancos Comerciales
A7: 1 | B7: Banco de Honduras, S.A. | C7: HONDURAS | D7: 2-oct-1889 | E7: Tegucigalpa | F7: 1 | G7: 0 | H7: 0 | I7: 0 | J7: 2 | K7: 56
A8: 2 | B8: Banco Atlántida, S.A. | C8: BANCATLAN | D8: 5389 | E8: Tegucigalpa | F8: 16 | G8: 107 | H8: 66 | I8: 1201 | J8: 1391 | K8: 2313
A9: 3 | B9: Banco de Occidente, S.A. | C9: BANCOCCI | D9: 18872 | E9: Sta. Rosa de Copán | F9: 8 | G9: 131 | H9: 15 | I9: 95 | J9: 250 | K9: 3790
A10: 4 | B10: Banco de los Trabajadores, S.A. | C10: BANCOTRAB | D10: 24593 | E10: Tegucigalpa | F10: 0 | G10: 33 | H10: 13 | I10: 11 | J10: 58 | K10: 577
A11: 5 | B11: Banco Financiera Centroamericana, S.A. | C11: FICENSA | D11: 27995 | E11: Tegucigalpa | F11: 4 | G11: 11 | H11: 2 | I11: 5 | J11: 23 | K11: 284
A12: 6 | B12: Banco Hondureño del Café, S.A. | C12: BANHCAFE | D12: 29710 | E12: Tegucigalpa | F12: 1 | G12: 34 | H12: 2 | I12: 0 | J12: 38 | K12: 617
A13: 7 | B13: Banco del País, S.A. | C13: BANPAIS | D13: 33794 | E13: San Pedro Sula | F13: 2 | G13: 87 | H13: 66 | I13: 172 | J13: 328 | K13: 2268
A14: 8 | B14: Banco Financiera Comercial Hondureña, S.A. | C14: FICOHSA | D14: 34533 | E14: Tegucigalpa | F14: 1 | G14: 67 | H14: 74 | I14: 1836 | J14: 1979 | K14: 2379
A15: 9 | B15: Banco Lafise (Honduras), Sociedad Anónima | C15: LAFISE | D15: 35612 | E15: Tegucigalpa | F15: 1 | G15: 21 | H15: 6 | I15: 98 | J15: 127 | K15: 594
A16: 10 | B16: Banco Davivienda Honduras, Sociedad Anónima | C16: BANCO DAVIVIENDA | D16: 36708 | E16: Tegucigalpa | F16: 2 | G16: 42 | H16: 5 | I16: 78 | J16: 128 | K16: 1240
A17: 11 | B17: Banco Promerica, S.A. | C17: PROMERICA | D17: 36901 | E17: Tegucigalpa | F17: 1 | G17: 14 | H17: 3 | I17: 83 | J17: 102 | K17: 715
A18: 12 | B18: Banco de Desarrollo Rural Honduras, S.A. | C18: BANRURAL | D18: 39251 | E18: Tegucigalpa | F18: 0 | G18: 87 | H18: 16 | I18: 741 | J18: 845 | K18: 1200
A19: 13 | B19: Banco Azteca de Honduras, S.A. | C19: AZTECA | D19: 39292 | E19: Tegucigalpa | F19: 0 | G19: 119 | H19: 0 | I19: 0 | J19: 120 | K19: 1774
... A21: 15 | B21: Banco de América Central Honduras, S. A. | C21: BAC|CREDOMATIC | D21: 35872 | E21: Tegucigalpa | F21: 1 | G21: 60 | H21: 70 | I21: 2080 | J21: 2212 | K21: 3490
B22: Subtotal | E22: 15 | F22: 38 | G22: 841 | H22: 338 | I22: 6402 | J22: 7634 | K22: 21978
B23: Bancos Estatales
A24: 1 | B24: Banco Central de Honduras | C24: BCH | D24: 18445 | E24: Tegucigalpa | F24: 3 | G24: 0 | H24: 0 | I24: 0 | J24: 4 | K24: 1205
A25: 2 | B25: Banco Nacional de Desarrollo Agrícola | C25: BANADESA | D25: 29312 | E25: Tegucigalpa | F25: 0 | G25: 28 | H25: 7 | I25: 0 | J25: 36 | K25: 442
A26: 3 | B26: Banco Hondureño para la Producción y la Vivienda | C26: BANHPROVI | D26: 38443 | E26: Tegucigalpa | F26: 0 | G26: 5 | H26: 0 | I26: 0 | J26: 6 | K26: 251
B27: Subtotal | E27: 3 | F27: 3 | G27: 33 | H27: 7 | I27: 0 | J27: 46 | K27: 1898
B28: Sociedades Financieras
A29: 1 | B29: Financiera Codimersa, S.A. | C29: CODIMERSA | D29: 35684 | E29: Sta. Rosa de Copán | F29: 0 | G29: 3 | H29: 0 | I29: 0 | J29: 4 | K29: 15
A30: 2 | B30: Leasing Atlántida, S.A. | C30: LEASING ATLÁNTIDA | D30: 35845 | E30: Tegucigalpa | F30: 0 | G30: 2 | H30: 0 | I30: 0 | J30: 3 | K30: 75
A31: 3 | B31: Financiera Credi Q, S.A. | C31: CREDI Q | D31: 36293 | E31: Tegucigalpa | F31: 1 | G31: 3 | H31: 0 | I31: 0 | J31: 5 | K31: 131
A32: 4 | B32: Financiera Solidaria, S.A. | C32: FINSOL | D32: 36312 | E32: San Pedro Sula | F32: 0 | G32: 23 | H32: 0 | I32: 2 | J32: 26 | K32: 333
A33: 5 | B33: Corporación Financiera Internacional, S.A. | C33: COFINTER | D33: 36384 | E33: Tegucigalpa | F33: 1 | G33: 0 | H33: 0 | I33: 0 | J33: 2 | K33: 58
A34: 6 | B34: Financiera Popular Ceibeña, S.A. | C34: FPC | D34: 36398 | E34: La Ceiba | F34: 0 | G34: 3 | H34: 0 | I34: 0 | J34: 4 | K34: 40
A35: 7 | B35: Compañía Financiera, S.A. | C35: COFISA | D35: 36419 | E35: San Pedro Sula | F35: 0 | G35: 14 | H35: 5 | I35: 0 | J35: 20 | K35: 229
A36: 8 | B36: Financiera Insular, S.A. | C36: FINISA | D36: 37865 | E36: Islas de la Bahía | F36: 0 | G36: 0 | H36: 0 | I36: 0 | J36: 1 | K36: 17
A37: 9 | B37: Financiera Finca Honduras, S.A. | C37: FINCA HONDURAS | D37: 39601 | E37: Tegucigalpa | F37: 7 | G37: 16 | H37: 0 | I37: 0 | J37: 24 | K37: 296
A38: 10 | B38: Organización de Desarrollo Empresarial Femenino Financiera, S.A. | C38: ODEF FINANCIERA | D38: 39630 | E38: San Pedro Sula | F38: 0 | G38: 32 | H38: 0 | I38: 16 | J38: 49 | K38: 455
B39: Subtotal | E39: 10 | F39: 9 | G39: 96 | H39: 5 | I39: 18 | J39: 138 | K39: 1649
B40: Oficinas de Representación
A41: 1 | B41: Laad Américas, N.V. | C41: LAAD | D41: 38769 | E41: San Pedro Sula | F41: 0 | G41: 0 | H41: 0 | I41: 0 | J41: 1 | K41: 1
B42: Subtotal | E42: 1 | F42: 0 | G42: 0 | H42: 0 | I42: 0 | J42: 1 | K42: 1
B43: Instituciones de Seguros
...

Sheet Honduras en Cifras
A1: NUMERO DE OFICINAS POR DEPARTAMENTO
A2: SISTEMA DE BANCOS COMERCIALES
A4: DEPARTAMENTOS | B4: 2008 | C4: 2009 | D4: 2010 | E4: 2011 | F4: 2012 | G4: 2013 | H4: 2019
A5: Atlántida | B5: 121 | C5: 119 | D5: 122 | E5: 136 | F5: 130 | G5: 139 | H5: =+H34 -> #REF!
A6: Colón | B6: 46 | C6: 45 | D6: 46 | E6: 62 | F6: 59 | G6: 62 | H6: =+H35 -> #REF!
A7: Comayagua | B7: 81 | C7: 95 | D7: 90 | E7: 109 | F7: 101 | G7: 111 | H7: =+H36 -> #REF!
A8: Copán | B8: 58 | C8: 63 | D8: 63 | E8: 77 | F8: 79 | G8: 78 | H8: =+H37 -> #REF!
A9: Cortés | B9: 545 | C9: 588 | D9: 546 | E9: 725 | F9: 716 | G9: 739 | H9: =H38 -> #REF!
A10: Choluteca | B10: 51 | C10: 56 | D10: 53 | E10: 74 | F10: 68 | G10: 76 | H10: =+H39 -> #REF!
A11: El Paraíso | B11: 34 | C11: 36 | D11: 39 | E11: 55 | F11: 55 | G11: 57 | H11: =+H40 -> #REF!
A12: Francisco Morazán | B12: 539 | C12: 594 | D12: 577 | E12: 593 | F12: 604 | G12: 613 | H12: =H41 -> #REF!
A13: Gracias a Dios | B13: 2 | C13: 2 | D13: 2 | E13: 2 | F13: 2 | G13: 2 | H13: =+H42 -> #REF!
A14: Intibucá | B14: 12 | C14: 14 | D14: 16 | E14: 19 | F14: 18 | G14: 19 | H14: =+H43 -> #REF!
A15: Islas de la Bahía | B15: 27 | C15: 27 | D15: 31 | E15: 39 | F15: 46 | G15: 44 | H15: =+H44 -> #REF!
A16: La Paz | B16: 12 | C16: 13 | D16: 14 | E16: 16 | F16: 15 | G16: 16 | H16: =+H45 -> #REF!
A17: Lempira | B17: 9 | C17: 9 | D17: 9 | E17: 11 | F17: 11 | G17: 11 | H17: =+H46 -> #REF!
A18: Ocotepeque | B18: 20 | C18: 20 | D18: 22 | E18: 26 | F18: 22 | G18: 26 | H18: =+H47 -> #REF!
A19: Olancho | B19: 49 | C19: 56 | D19: 61 | E19: 61 | F19: 63 | G19: 62 | H19: =+H48 -> #REF!
A20: Santa Bárbara | B20: 34 | C20: 32 | D20: 34 | E20: 48 | F20: 43 | G20: 49 | H20: =+H49 -> #REF!
A21: Valle | B21: 26 | C21: 26 | D21: 26 | E21: 29 | F21: 27 | G21: 29 | H21: =+H50 -> #REF!
A22: Yoro | B22: 87 | C22: 87 | D22: 85 | E22: 97 | F22: 92 | G22: 99 | H22: =+H51 -> #REF!
A24: TOTAL | B24: 1753 | C24: 1882 | D24: 1836 | E24: =SUM(E5:E22) -> 2179 | F24: 2151 | G24: 2232 | H24: =SUM(H5:H22) -> #REF! | I24: =+#REF! -> #REF! | J24: =+H24-I24 -> #REF! | K24: =+I24+J24 -> #REF!
I25: =+'Instituciones Supervisadas'!J22 -> 7634 | J25: =+I25-H24 -> #REF!
A26: SISTEMA DE BANCOS COMERCIALES
A27: NUMERO DE OFICINAS POR DEPARTAMENTO
A28: =+CONSOLIDADO!A3 -> Al 31 de Marzo de 2020
A30: Departamentos | B30: Número de | C30: Número | D30: Número | E30: Ventanillas | F30: ATM's | G30: Otras Oficinas 2/ | H30: Número | I30: Número de
B31: Oficinas | C31: de | D31: de | E31: de | H31: Total de | I31: Funcionarios
B32: Principales | C32: Sucursales1/ | D32: Agencias | E32: Servicio | H32: Oficinas | I32: y Empleados
A34: Atlántida | B34: 0 | C34: =+#REF! -> #REF! | D34: =+#REF! -> #REF! | E34: =+#REF! -> #REF! | F34: =+#REF! -> #REF! | G34: =+#REF! -> #REF! | H34: =+B34+C34+D34+E34+F34+G34 -> #REF! | I34: =+#REF!+#REF!+#REF!+#REF! -> #REF!
A35: Colón | B35: 0 | C35: =+#REF! -> #REF! | D35: =+#REF! -> #REF! | E35: =+#REF! -> #REF! | F35: =+#REF! -> #REF! | G35: =+#REF! -> #REF! | H35: =+B35+C35+D35+E35+F35+G35 -> #REF! | I35: =+#REF!+#REF!+#REF!+#REF! -> #REF!
A36: Comayagua | B36: 0 | C36: =+#REF! -> #REF! | D36: =+#REF! -> #REF! | E36: =+#REF! -> #REF! | F36: =+#REF! -> #REF! | G36: =+#REF! -> #REF! | H36: =+B36+C36+D36+E36+F36+G36 -> #REF! | I36: =+#REF!+#REF!+#REF!+#REF! -> #REF!
A37: Copán | B37: 1 | C37: =+#REF! -> #REF! | D37: =+#REF! -> #REF! | E37: =+#REF! -> #REF! | F37: =+#REF! -> #REF! | G37: =+#REF! -> #REF! | H37: =+B37+C37+D37+E37+F37+G37 -> #REF! | I37: =+#REF!+#REF!+#REF!+#REF! -> #REF!
A38: Cortés | B38: 1 | C38: =+#REF! -> #REF! | D38: =+#REF! -> #REF! | E38: =+#REF! -> #REF! | F38: =+#REF! -> #REF! | G38: =+#REF! -> #REF! | H38: =+B38+C38+D38+E38+F38+G38 -> #REF! | I38: =+#REF!+#REF!+#REF!+#REF! -> #REF!
A39: Choluteca | B39: 0 | C39: =+#REF! -> #REF! | D39: =+#REF! -> #REF! | E39: =+#REF! -> #REF! | F39: =+#REF! -> #REF! | G39: =+#REF! -> #REF! | H39: =+B39+C39+D39+E39+F39+G39 -> #REF! | I39: =+#REF!+#REF!+#REF!+#REF! -> #REF!
A40: El Paraíso | B40: 0 | C40: =+#REF! -> #REF! | D40: =+#REF! -> #REF! | E40: =+#REF! -> #REF! | F40: =+#REF! -> #REF! | G40: =+#REF! -> #REF! | H40: =+B40+C40+D40+E40+F40+G40 -> #REF! | I40: =+#REF!+#REF!+#REF!+#REF! -> #REF!
A41: Francisco Morazán | B41: 13 | C41: =+#REF! -> #REF! | D41: =+#REF! -> #REF! | E41: =+#REF! -> #REF! | F41: =+#REF! -> #REF! | G41: =+#REF! -> #REF! | H41: =+B41+C41+D41+E41+F41+G41 -> #REF! | I41: =+#REF!+#REF!+#REF!+#REF! -> #REF!
A42: Gracias a Dios | B42: 0 | C42: =+#REF! -> #REF! | D42: =+#REF! -> #REF! | E42: =+#REF! -> #REF! | F42: =+#REF! -> #REF! | G42: =+#REF! -> #REF! | H42: =+B42+C42+D42+E42+F42+G42 -> #REF! | I42: =+#REF!+#REF!+#REF!+#REF! -> #REF!
A43: Intibucá | B43: 0 | C43: =+#REF! -> #REF! | D43: =+#REF! -> #REF! | E43: =+#REF! -> #REF! | F43: =+#REF! -> #REF! | G43: =+#REF! -> #REF! | H43: =+B43+C43+D43+E43+F43+G43 -> #REF! | I43: =+#REF!+#REF!+#REF!+#REF! -> #REF!
A44: Islas de la Bahía | B44: 0 | C44: =+#REF! -> #REF! | D44: =+#REF! -> #REF! | E44: =+#REF! -> #REF! | F44: =+#REF! -> #REF! | G44: =+#REF! -> #REF! | H44: =+B44+C44+D44+E44+F44+G44 -> #REF! | I44: =+#REF!+#REF!+#REF!+#REF! -> #REF!
...

Sheet INDIVIDUAL
A1: SISTEMA DE BANCOS COMERCIALES
A2: NUMERO DE OFICINAS POR DEPARTAMENTO
A3: =+CONSOLIDADO!A3 -> Al 31 de Marzo de 2020
B5: Número de | C5: Número | D5: Número | E5: Ventanillas | F5: Otras | G5: Número | H5: Número de
B6: Oficinas | C6: de | D6: de | E6: de | F6: Oficinas | G6: Total de | H6: Funcionarios
A7: Departamentos | B7: Principales | C7: Sucursales 1/ | D7: Agencias | E7: Servicio | F7: 2/ | G7: Oficinas | H7: y Empleados
A9: Francisco Morazán | B9: 13 | C9: =+#REF! -> #REF! | D9: =+#REF! -> #REF! | E9: =+#REF! -> #REF! | F9: =+#REF! -> #REF! | G9: =+B9+C9+D9+E9+F9 -> #REF! | H9: =+#REF!+#REF!+#REF!+#REF! -> #REF!
A10: Cortés | B10: 3 | C10: =+#REF! -> #REF! | D10: =+#REF! -> #REF! | E10: =+#REF! -> #REF! | F10: =+#REF! -> #REF! | G10: =+B10+C10+D10+E10+F10 -> #REF! | H10: =+#REF!+#REF!+#REF!+#REF! -> #REF!
A11: Atlántida | B11: 0 | C11: =+#REF! -> #REF! | D11: =+#REF! -> #REF! | E11: =+#REF! -> #REF! | F11: =+#REF! -> #REF! | G11: =+B11+C11+D11+E11+F11 -> #REF! | H11: =+#REF!+#REF!+#REF!+#REF! -> #REF!
A12: Choluteca | B12: 0 | C12: =+#REF! -> #REF! | D12: =+#REF! -> #REF! | E12: =+#REF! -> #REF! | F12: =+#REF! -> #REF! | G12: =+B12+C12+D12+E12+F12 -> #REF! | H12: =+#REF!+#REF!+#REF!+#REF! -> #REF!
A13: Copán | B13: 1 | C13: =+#REF! -> #REF! | D13: =+#REF! -> #REF! | E13: =+#REF! -> #REF! | F13: =+#REF! -> #REF! | G13: =+B13+C13+D13+E13+F13 -> #REF! | H13: =+#REF!+#REF!+#REF!+#REF! -> #REF!
A14: Olancho | B14: 0 | C14: =+#REF! -> #REF! | D14: =+#REF! -> #REF! | E14: =+#REF! -> #REF! | F14: =+#REF! -> #REF! | G14: =+B14+C14+D14+E14+F14 -> #REF! | H14: =+#REF!+#REF!+#REF!+#REF! -> #REF!
A15: El Paraíso | B15: 0 | C15: =+#REF! -> #REF! | D15: =+#REF! -> #REF! | E15: =+#REF! -> #REF! | F15: =+#REF! -> #REF! | G15: =+B15+C15+D15+E15+F15 -> #REF! | H15: =+#REF!+#REF!+#REF!+#REF! -> #REF!
A16: Santa Bárbara | B16: 0 | C16: =+#REF! -> #REF! | D16: =+#REF! -> #REF! | E16: =+#REF! -> #REF! | F16: =+#REF! -> #REF! | G16: =+B16+C16+D16+E16+F16 -> #REF! | H16: =+#REF!+#REF!+#REF!+#REF! -> #REF!
A17: Comayagüa | B17: 0 | C17: =+#REF! -> #REF! | D17: =+#REF! -> #REF! | E17: =+#REF! -> #REF! | F17: =+#REF! -> #REF! | G17: =+B17+C17+D17+E17+F17 -> #REF! | H17: =+#REF!+#REF!+#REF!+#REF! -> #REF!
A18: Islas de la Bahía | B18: 0 | C18: =+#REF! -> #REF! | D18: =+#REF! -> #REF! | E18: =+#REF! -> #REF! | F18: =+#REF! -> #REF! | G18: =+B18+C18+D18+E18+F18 -> #REF! | H18: =+#REF!+#REF!+#REF!+#REF! -> #REF!
A19: Ocotepeque | B19: 0 | C19: =+#REF! -> #REF! | D19: =+#REF! -> #REF! | E19: =+#REF! -> #REF! | F19: =+#REF! -> #REF! | G19: =+B19+C19+D19+E19+F19 -> #REF! | H19: =+#REF!+#REF!+#REF!+#REF! -> #REF!
A20: Lempira | B20: 0 | C20: =+#REF! -> #REF! | D20: =+#REF! -> #REF! | E20: =+#REF! -> #REF! | F20: =+#REF! -> #REF! | G20: =+B20+C20+D20+E20+F20 -> #REF! | H20: =+#REF!+#REF!+#REF!+#REF! -> #REF!
... A26: Intibuca | B26: 0 | C26: =+#REF! -> #REF! | D26: =+#REF! -> #REF! | E26: =+#REF! -> #REF! | F26: =+#REF! -> #REF! | G26: =+B26+C26+D26+E26+F26 -> #REF! | H26: =+#REF!+#REF!+#REF!+#REF! -> #REF!
A28: TOTALES | B28: =SUM(B9:B26) -> 17 | C28: =SUM(C9:C26) -> #REF! | D28: =SUM(D9:D26) -> #REF! | E28: =SUM(E9:E26) -> #REF! | F28: =SUM(F9:F26) -> #REF! | G28: =+B28+C28+D28+E28+F28 -> #REF! | H28: =SUM(H9:H26) -> #REF!
A29: 1/ Considerar como "Sucursal" a la oficina que lleve, por separado de la oficina principal, los registros contables y/o centralice las operaciones de una determinada región del país.
A30: 2/ En "Otras Oficinas" puede incluir, según corresponda a su Institución: Autobancos, cajeros automáticos, corredurias, puestos de bolsa, bodegas habilitadas y otras oficinas de atención al
A31: público.
A32: SISTEMA DE BANCOS ESTATALES
A33: NUMERO DE OFICINAS POR DEPARTAMENTO
A34: =+A3 -> Al 31 de Marzo de 2020
B36: Número de | C36: Número | D36: Número | E36: Ventanillas | F36: Otras | G36: Número | H36: Número de
B37: Oficinas | C37: de | D37: de | E37: de | F37: Oficinas | G37: Total de | H37: Funcionarios
A38: Departamentos | B38: Principales | C38: Sucursales 1/ | D38: Agencias | E38: Servicio | F38: 2/ | G38: Oficinas | H38: y Empleados
A40: Francisco Morazán | B40: 2 | C40: =+#REF! -> #REF! | D40: =+#REF! -> #REF! | E40: =+#REF! -> #REF! | F40: =+#REF! -> #REF! | G40: =+B40+C40+D40+E40+F40 -> #REF! | H40: =+#REF!+#REF!+#REF!+#REF! -> #REF!
A41: Cortés | B41: 0 | C41: =+#REF! -> #REF! | D41: =+#REF! -> #REF! | E41: =+#REF! -> #REF! | F41: =+#REF! -> #REF! | G41: =+B41+C41+D41+E41+F41 -> #REF! | H41: =+#REF!+#REF!+#REF!+#REF! -> #REF!
A42: Atlántida | B42: 0 | C42: =+#REF! -> #REF! | D42: =+#REF! -> #REF! | E42: =+#REF! -> #REF! | F42: =+#REF! -> #REF! | G42: =+B42+C42+D42+E42+F42 -> #REF! | H42: =+#REF!+#REF!+#REF!+#REF! -> #REF!
A43: Choluteca | B43: 0 | C43: =+#REF! -> #REF! | D43: =+#REF! -> #REF! | E43: =+#REF! -> #REF! | F43: =+#REF! -> #REF! | G43: =+B43+C43+D43+E43+F43 -> #REF! | H43: =+#REF!+#REF!+#REF!+#REF! -> #REF!
A44: Copán | B44: 0 | C44: =+#REF! -> #REF! | D44: =+#REF! -> #REF! | E44: =+#REF! -> #REF! | F44: =+#REF! -> #REF! | G44: =+B44+C44+D44+E44+F44 -> #REF! | H44: =+#REF!+#REF!+#REF!+#REF! -> #REF!
A45: Olancho | B45: 0 | C45: =+#REF! -> #REF! | D45: =+#REF! -> #REF! | E45: =+#REF! -> #REF! | F45: =+#REF! -> #REF! | G45: =+B45+C45+D45+E45+F45 -> #REF! | H45: =+#REF!+#REF!+#REF!+#REF! -> #REF!
A46: El Paraíso | B46: 0 | C46: =+#REF! -> #REF! | D46: =+#REF! -> #REF! | E46: =+#REF! -> #REF! | F46: =+#REF! -> #REF! | G46: =+B46+C46+D46+E46+F46 -> #REF! | H46: =+#REF!+#REF!+#REF!+#REF! -> #REF!
A47: Santa Bárbara | B47: 0 | C47: =+#REF! -> #REF! | D47: =+#REF! -> #REF! | E47: =+#REF! -> #REF! | F47: =+#REF! -> #REF! | G47: =+B47+C47+D47+E47+F47 -> #REF! | H47: =+#REF!+#REF!+#REF!+#REF! -> #REF!
A48: Comayagüa | B48: 0 | C48: =+#REF! -> #REF! | D48: =+#REF! -> #REF! | E48: =+#REF! -> #REF! | F48: =+#REF! -> #REF! | G48: =+B48+C48+D48+E48+F48 -> #REF! | H48: =+#REF!+#REF!+#REF!+#REF! -> #REF!
A49: Islas de la Bahía | B49: 0 | C49: =+#REF! -> #REF! | D49: =+#REF! -> #REF! | E49: =+#REF! -> #REF! | F49: =+#REF! -> #REF! | G49: =+B49+C49+D49+E49+F49 -> #REF! | H49: =+#REF!+#REF!+#REF!+#REF! -> #REF!
A50: Ocotepeque | B50: 0 | C50: =+#REF! -> #REF! | D50: =+#REF! -> #REF! | E50: =+#REF! -> #REF! | F50: =+#REF! -> #REF! | G50: =+B50+C50+D50+E50+F50 -> #REF! | H50: =+#REF!+#REF!+#REF!+#REF! -> #REF!
...

Sheet OFICINAS POR DEPTO.
A1: NUMERO DE OFICINAS POR DEPARTAMENTO
A2: SISTEMA DE BANCOS COMERCIALES 1/
A4: DEPARTAMENTOS | B4: 2003 | C4: 2004 | D4: 2005 | E4: 2006 | F4: 2007 | G4: 2009
A5: Atlántida | B5: 56 | C5: 56 | D5: 64 | E5: 81 | F5: 105 | G5: =+INDIVIDUAL!G11 -> #REF!
A6: Colón | B6: 21 | C6: 21 | D6: 22 | E6: 25 | F6: 32 | G6: =+INDIVIDUAL!G23 -> #REF!
A7: Comayagua | B7: 37 | C7: 38 | D7: 44 | E7: 48 | F7: 60 | G7: =+INDIVIDUAL!G17 -> #REF!
A8: Copán | B8: 25 | C8: 25 | D8: 28 | E8: 32 | F8: 46 | G8: =+INDIVIDUAL!G13 -> #REF!
A9: Cortés | B9: 257 | C9: 262 | D9: 308 | E9: 376 | F9: 475 | G9: =+INDIVIDUAL!G10 -> #REF!
A10: Choluteca | B10: 23 | C10: 23 | D10: 30 | E10: 31 | F10: 44 | G10: =+INDIVIDUAL!G12 -> #REF!
A11: El Paraíso | B11: 16 | C11: 15 | D11: 16 | E11: 18 | F11: 29 | G11: =+INDIVIDUAL!G15 -> #REF!
A12: Francisco Morazán | B12: 256 | C12: 273 | D12: 314 | E12: 406 | F12: 492 | G12: =+INDIVIDUAL!G9 -> #REF!
A13: Intibucá | B13: 5 | C13: 5 | D13: 5 | E13: 6 | F13: 9 | G13: =+INDIVIDUAL!G26 -> #REF!
A14: Islas de la Bahía | B14: 10 | C14: 11 | D14: 14 | E14: 17 | F14: 23 | G14: =+INDIVIDUAL!G18 -> #REF!
A15: La Paz | B15: 6 | C15: 6 | D15: 6 | E15: 6 | F15: 8 | G15: =+INDIVIDUAL!G25 -> #REF!
A16: Lempira | B16: 4 | C16: 5 | D16: 6 | E16: 5 | F16: 6 | G16: =+INDIVIDUAL!G20 -> #REF!
A17: Ococtepeque | B17: 11 | C17: 11 | D17: 13 | E17: 11 | F17: 18 | G17: =+INDIVIDUAL!G19 -> #REF!
A18: Olancho | B18: 24 | C18: 24 | D18: 26 | E18: 28 | F18: 39 | G18: =+INDIVIDUAL!G14 -> #REF!
A19: Santa Bárbara | B19: 17 | C19: 18 | D19: 18 | E19: 19 | F19: 28 | G19: =+INDIVIDUAL!G16 -> #REF!
A20: Valle | B20: 12 | C20: 12 | D20: 14 | E20: 13 | F20: 21 | G20: =+INDIVIDUAL!G22 -> #REF!
A21: Yoro | B21: 34 | C21: 37 | D21: 41 | E21: 46 | F21: 68 | G21: =+INDIVIDUAL!G21 -> #REF!
A22: Gracias a Dios | B22: 1 | C22: 1 | D22: 1 | E22: 1 | F22: 2 | G22: =+INDIVIDUAL!G24 -> #REF!
A24: TOTAL | B24: =SUM(B5:B22) -> 815 | C24: =SUM(C5:C22) -> 843 | D24: =SUM(D5:D22) -> 970 | E24: =SUM(E5:E22) -> 1169 | F24: =SUM(F5:F22) -> 1505 | G24: =SUM(G5:G22) -> #REF!
A25: 1/ Cifras al 31 de diciembre de cada año exceptuando la ultima columna, la cual pertenece al trimestre del cual se informa.
A28: NUMERO DE EMPLEADOS POR DEPARTAMENTO
A29: SISTEMA DE BANCOS COMERCIALES 1/
A30: DEPARTAMENTOS | B30: 2003 | C30: 2004 | D30: 2005 | E30: 2006 | F30: 2007 | G30: 2009
A31: Atlántida | B31: 673 | C31: 690 | D31: 739 | E31: 782 | F31: 852 | G31: =+INDIVIDUAL!H11 -> #REF!
A32: Colón | B32: 189 | C32: 197 | D32: 213 | E32: 222 | F32: 238 | G32: =+INDIVIDUAL!H23 -> #REF!
A33: Comayagua | B33: 335 | C33: 351 | D33: 386 | E33: 444 | F33: 487 | G33: =+INDIVIDUAL!H17 -> #REF!
A34: Copán | B34: 446 | C34: 452 | D34: 503 | E34: 563 | F34: 619 | G34: =+INDIVIDUAL!H13 -> #REF!
A35: Cortés | B35: 3377 | C35: 3678 | D35: 3910 | E35: 4306 | F35: 4714 | G35: =+INDIVIDUAL!H10 -> #REF!
A36: Choluteca | B36: 262 | C36: 276 | D36: 294 | E36: 312 | F36: 351 | G36: =+INDIVIDUAL!H12 -> #REF!
A37: El Paraíso | B37: 150 | C37: 153 | D37: 159 | E37: 170 | F37: 186 | G37: =+INDIVIDUAL!H15 -> #REF!
A38: Francisco Morazán | B38: 4160 | C38: 4514 | D38: 4972 | E38: 5647 | F38: 6185 | G38: =+INDIVIDUAL!H9 -> #REF!
A39: Intibucá | B39: 92 | C39: 94 | D39: 98 | E39: 104 | F39: 110 | G39: =+INDIVIDUAL!H26 -> #REF!
A40: Islas de la Bahía | B40: 46 | C40: 51 | D40: 53 | E40: 58 | F40: 70 | G40: =+INDIVIDUAL!H18 -> #REF!
A41: La Paz | B41: 80 | C41: 85 | D41: 88 | E41: 96 | F41: 103 | G41: =+INDIVIDUAL!H25 -> #REF!
A42: Lempira | B42: 47 | C42: 51 | D42: 53 | E42: 60 | F42: 62 | G42: =+INDIVIDUAL!H20 -> #REF!
A43: Ococtepeque | B43: 114 | C43: 119 | D43: 129 | E43: 133 | F43: 150 | G43: =+INDIVIDUAL!H19 -> #REF!
A44: Olancho | B44: 228 | C44: 254 | D44: 283 | E44: 303 | F44: 340 | G44: =+INDIVIDUAL!H14 -> #REF!
...

Sheet Seg. Piso
A1: Banca de Segundo Piso
A2: Numero de Sucursales
A3: Departamentos | B3: RAP | D3: BANHPROVI | F3: Total
B4: Oficinas | C4: Empleados | D4: Oficinas | E4: Empleados | F4: Oficinas | G4: Empleados
A5: Atlántida | F5: =SUM(B5+D5) -> 0 | G5: =SUM(C5+E5) -> 0
A6: Colón | F6: =SUM(B6+D6) -> 0 | G6: =SUM(C6+E6) -> 0
A7: Comayagüa | F7: =SUM(B7+D7) -> 0 | G7: =SUM(C7+E7) -> 0
A8: Copán | F8: =SUM(B8+D8) -> 0 | G8: =SUM(C8+E8) -> 0
A9: Cortés | F9: =SUM(B9+D9) -> 0 | G9: =SUM(C9+E9) -> 0
A10: Choluteca | F10: =SUM(B10+D10) -> 0 | G10: =SUM(C10+E10) -> 0
A11: El Paraíso | F11: =SUM(B11+D11) -> 0 | G11: =SUM(C11+E11) -> 0
A12: Francisco Morazán | F12: =SUM(B12+D12) -> 0 | G12: =SUM(C12+E12) -> 0
A13: Gracias a Dios | F13: =SUM(B13+D13) -> 0 | G13: =SUM(C13+E13) -> 0
A14: Intibuca | F14: =SUM(B14+D14) -> 0 | G14: =SUM(C14+E14) -> 0
A15: Islas de la Bahía | F15: =SUM(B15+D15) -> 0 | G15: =SUM(C15+E15) -> 0
A16: La Paz | F16: =SUM(B16+D16) -> 0 | G16: =SUM(C16+E16) -> 0
... A22: Yoro | F22: =SUM(B22+D22) -> 0 | G22: =SUM(C22+E22) -> 0
A23: TOTALES | B23: =SUM(B5:B22) -> 0 | C23: =SUM(C5:C22) -> 0 | D23: =SUM(D5:D22) -> 0 | E23: =SUM(E5:E22) -> 0 | F23: =SUM(F5:F22) -> 0 | G23: =SUM(G5:G22) -> 0
A25: Numero de Agencias
A26: Departamentos | B26: RAP | D26: BANPROVI | F26: Total
B27: Oficinas | C27: Empleados | D27: Oficinas | E27: Empleados | F27: Oficinas | G27: Empleados
A28: Atlántida | F28: =SUM(B28+D28) -> 0 | G28: =SUM(C28+E28) -> 0
A29: Colón | F29: =SUM(B29+D29) -> 0 | G29: =SUM(C29+E29) -> 0
A30: Comayagüa | F30: =SUM(B30+D30) -> 0 | G30: =SUM(C30+E30) -> 0
A31: Copán | F31: =SUM(B31+D31) -> 0 | G31: =SUM(C31+E31) -> 0
A32: Cortés | F32: =SUM(B32+D32) -> 0 | G32: =SUM(C32+E32) -> 0
A33: Choluteca | F33: =SUM(B33+D33) -> 0 | G33: =SUM(C33+E33) -> 0
A34: El Paraíso | F34: =SUM(B34+D34) -> 0 | G34: =SUM(C34+E34) -> 0
A35: Francisco Morazán | F35: =SUM(B35+D35) -> 0 | G35: =SUM(C35+E35) -> 0
A36: Gracias a Dios | F36: =SUM(B36+D36) -> 0 | G36: =SUM(C36+E36) -> 0
A37: Intibuca | F37: =SUM(B37+D37) -> 0 | G37: =SUM(C37+E37) -> 0
A38: Islas de la Bahía | F38: =SUM(B38+D38) -> 0 | G38: =SUM(C38+E38) -> 0
A39: La Paz | F39: =SUM(B39+D39) -> 0 | G39: =SUM(C39+E39) -> 0
... A45: Yoro | F45: =SUM(B45+D45) -> 0 | G45: =SUM(C45+E45) -> 0
A46: TOTALES | B46: =SUM(B28:B45) -> 0 | C46: =SUM(C28:C45) -> 0 | D46: =SUM(D28:D45) -> 0 | E46: =SUM(E28:E45) -> 0 | F46: =SUM(F28:F45) -> 0 | G46: =SUM(G28:G45) -> 0
A48: Numero de Ventanillas de Servicio
A49: Departamentos | B49: RAP | D49: BANPROVI | F49: Total
B50: Oficinas | C50: Empleados | D50: Oficinas | E50: Empleados | F50: Oficinas | G50: Empleados
A51: Atlántida | F51: =SUM(B51+D51) -> 0 | G51: =SUM(C51+E51) -> 0
A52: Colón | F52: =SUM(B52+D52) -> 0 | G52: =SUM(C52+E52) -> 0
...

Sheet 1999
A3: NUMERO DE INSTITUCIONES Y OFICINAS DEL SISTEMA FINANCIERO NACIONAL
A4: Datos al 31 de diciembre de 1999
C8: NOMBRE | D8: FECHA | E8: OFICINA | H8: VENTANI- | I8: OTRAS | J8: No. TOTAL | K8: No. TOTAL
C9: DE | D9: INICIO DE | E9: PRINCIPAL | F9: SUCURSA- | H9: LLAS DE | I9: OFICINAS | J9: DE | K9: DE FUNC. Y
A10: No. | B10: INSTITUCION | C10: REFERENCIA | D10: OPERAC. | E10: (Ciudad) | F10: LES | G10: AGENCIAS | H10: SERVICIO | I10: 1/ | J10: OFICINAS | K10: EMPLEADOS
B12: BANCOS COMERCIALES
A14: 1 | B14: Banco de Honduras, S.A. | C14: Honduras | D14: 2-oct-1889 | E14: Tegucigalpa | F14: 1 | G14: 1 | H14: 0 | I14: 0 | J14: =SUM(F14:I14)+1 -> 3 | K14: 61
A15: 2 | B15: Banco Atlántida, S.A. | C15: Bancatlán | D15: 41990 | E15: Tegucigalpa | F15: 17 | G15: 93 | H15: 9 | I15: 45 | J15: =SUM(F15:I15)+1 -> 165 | K15: 1299
A16: 3 | B16: Banco de El Ahorro Hondureño, S.A. | C16: Bancahorro | D16: 42772 | E16: Tegucigalpa | F16: 1 | G16: 38 | H16: 8 | I16: 9 | J16: =SUM(F16:I16)+1 -> 57 | K16: 807
A17: 4 | B17: Banco La Capitalizadora Hondureña, S.A. | C17: Bancahsa | D17: 17685 | E17: Tegucigalpa | F17: 3 | G17: 54 | H17: 12 | I17: 28 | J17: =SUM(F17:I17)+1 -> 98 | K17: 1262
A18: 5 | B18: Banco de Occidente, S.A. | C18: Bancocci | D18: 18872 | E18: Sta. Rosa de C. | F18: 9 | G18: 21 | H18: 67 | I18: 12 | J18: =SUM(F18:I18)+1 -> 110 | K18: 1906
A19: 6 | B19: Banco del Comercio, S.A. | C19: Bancomer | D19: 19207 | E19: San Pedro Sula | F19: 2 | G19: 22 | H19: 7 | I19: 0 | J19: =SUM(F19:I19)+1 -> 32 | K19: 360
A20: 7 | B20: Lloyds Bank PLC | C20: Lloyds | D20: 21836 | E20: Tegucigalpa | F20: 0 | G20: 5 | H20: 0 | I20: 0 | J20: =SUM(F20:I20)+1 -> 6 | K20: 87
A21: 8 | B21: Banco de Los Trabajadores | C21: Bancotrab | D21: 24594 | E21: Tegucigalpa | F21: 5 | G21: 9 | H21: 34 | I21: 3 | J21: =SUM(F21:I21)+1 -> 52 | K21: 258
A22: 9 | B22: Banco Sogerin, S.A. | C22: Sogerin | D22: 25508 | E22: San Pedro Sula | F22: 2 | G22: 41 | H22: 92 | I22: 1 | J22: =SUM(F22:I22)+1 -> 137 | K22: 692
A23: 10 | B23: Banco Continental, S.A. | C23: Bancon | D23: 27151 | E23: San Pedro Sula | F23: 1 | G23: 30 | H23: 7 | I23: 0 | J23: =SUM(F23:I23)+1 -> 39 | K23: 470
A24: 11 | B24: Banco Financiera Centroamericana, S.A. | C24: Ficensa | D24: 27264 | E24: Tegucigalpa | F24: 8 | G24: 15 | H24: 4 | I24: 0 | J24: =SUM(F24:I24)+1 -> 28 | K24: 299
A25: 12 | B25: Banco de Las Fuerzas Armadas, S.A. | C25: Banffaa | D25: 29075 | E25: Tegucigalpa | F25: 3 | G25: 35 | H25: 10 | I25: 0 | J25: =SUM(F25:I25)+1 -> 49 | K25: 461
A26: 13 | B26: Banco Mercantil, S.A. | C26: Bamer | D26: 29265 | E26: Tegucigalpa | F26: 2 | G26: 36 | H26: 9 | I26: 2 | J26: =SUM(F26:I26)+1 -> 50 | K26: 839
... A35: 22 | B35: Banco Credomatic, S.A. | C35: Credomatic | D35: 35817 | E35: Tegucigalpa | F35: 1 | G35: 5 | H35: 0 | I35: 0 | J35: =SUM(F35:I35)+1 -> 7 | K35: 118
B36: Totales | E36: =+A35 -> 22 | F36: =SUM(F14:F35) -> 74 | G36: =SUM(G14:G35) -> 561 | H36: =SUM(H14:H35) -> 327 | I36: =SUM(I14:I35) -> 129 | J36: =+I36+H36+G36+F36+E36 -> 1113 | K36: =SUM(K14:K35) -> 12597
B38: BANCOS ESTATALES
A40: 1 | B40: Banco Central de Honduras | C40: B.C.H. | D40: 18445 | E40: Tegucigalpa | F40: 4 | G40: 0 | H40: 0 | I40: 0 | J40: =SUM(F40:I40)+1 -> 5 | K40: 789
A41: 2 | B41: Banco Nacional de Desarrollo Agrícola | C41: Banadesa | D41: 18445 | E41: Tegucigalpa | F41: 0 | G41: 26 | H41: 10 | I41: 0 | J41: =SUM(F41:I41)+1 -> 37 | K41: 431
A42: 3 | B42: Banco Municipal Autónomo | C42: Banma | D42: 22801 | E42: Tegucigalpa | F42: 0 | G42: 0 | H42: 0 | I42: 0 | J42: =SUM(F42:I42)+1 -> 1 | K42: 26
B43: Totales | E43: =+A42 -> 3 | F43: =SUM(F40:F42) -> 4 | G43: =SUM(G40:G42) -> 26 | H43: =SUM(H40:H42) -> 10 | I43: =SUM(I40:I42) -> 0 | J43: =SUM(J40:J42) -> 43 | K43: =SUM(K40:K42) -> 1246
B45: ASOC. DE AHORRO Y PRESTAMO
A47: 1 | B47: La Vivienda, S.A | C47: Vivienda | D47: 25822 | E47: Tegucigalpa | F47: 2 | G47: 21 | H47: 92 | I47: 21 | J47: =SUM(F47:I47)+1 -> 137 | K47: 414
A48: 2 | B48: Casa Propia, S.A. | C48: Casa Propia | D48: 26210 | E48: Tegucigalpa | F48: 2 | G48: 3 | H48: 0 | I48: 0 | J48: =SUM(F48:I48)+1 -> 6 | K48: 85
A49: 3 | B49: La Constancia, S.A. | C49: Constancia | D49: 28443 | E49: San Pedro Sula | F49: 3 | G49: 14 | H49: 0 | I49: 0 | J49: =SUM(F49:I49)+1 -> 18 | K49: 409
A50: 4 | B50: Metropolitana, S.A. | C50: Metropolitana | D50: 28814 | E50: San Pedro Sula | F50: 2 | G50: 0 | H50: 3 | I50: 0 | J50: =SUM(F50:I50)+1 -> 6 | K50: 33
B51: Totales | E51: =+A50 -> 4 | F51: =SUM(F47:F50) -> 9 | G51: =SUM(G47:G50) -> 38 | H51: =SUM(H47:H50) -> 95 | I51: =SUM(I47:I50) -> 21 | J51: =SUM(J47:J50) -> 167 | K51: =SUM(K47:K50) -> 941
B53: BANCA DE SEGUNDO PISO
A55: 1 | B55: Régimen de Aportaciones Privadas | C55: R.A.P. | D55: 33682 | E55: Tegucigalpa | F55: 0 | G55: 1 | H55: 0 | I55: 0 | J55: =SUM(F55:I55)+1 -> 2 | K55: 62
A56: 2 | B56: Fondo Nacional para la Producción y la Vivienda | C56: Fonaprovi | D56: 35717 | E56: Tegucigalpa | F56: 0 | G56: 0 | H56: 0 | I56: 0 | J56: =SUM(F56:I56)+1 -> 1 | K56: 70
B57: Totales | E57: =+A56 -> 2 | F57: =SUM(F55:F56) -> 0 | G57: =SUM(G55:G56) -> 1 | H57: =SUM(H55:H56) -> 0 | I57: =SUM(I55:I56) -> 0 | J57: =SUM(J55:J56) -> 3 | K57: =SUM(K55:K56) -> 132
B59: COMPAÑIAS DE SEGUROS
A61: 1 | B61: El Ahorro Hondureño, S.A. | C61: Ahorro | D61: 42752 | E61: Tegucigalpa | F61: 0 | G61: 12 | H61: 0 | I61: 0 | J61: =SUM(F61:I61)+1 -> 13 | K61: 316
A62: 2 | B62: Pan American Life Insurance Company | C62: Palic | D62: 16225 | E62: Tegucigalpa | F62: 1 | G62: 0 | H62: 0 | I62: 0 | J62: =SUM(F62:I62)+1 -> 2 | K62: 303
A63: 3 | B63: Aseguradora Hondureña, S.A. | C63: Aseguradora | D63: 19917 | E63: Tegucigalpa | F63: 3 | G63: 4 | H63: 0 | I63: 0 | J63: =SUM(F63:I63)+1 -> 8 | K63: 273
...
